Workbook

Sheet შემაჯამებელი
B1: ხელშეკრულების თარიღი: | C1: DD.MM.20YY
B2: ხელშეკრულების #: | C2: XXXXXX
B3: პროექტი: | C3: მრავალფუნქციური სპორტულ-გამაჯანსაღებელი ცენტრის სამშენებლო სამუშაოები
B4: საბუთის დასახელება: | C4: ფინანსური გრაფიკი
B5: შედგენის თარიღი: | C5: DD/MM/YY
C7: 46296 | D7: 46327 | E7: 46357
A8: # | B8: დასახელება | C8: თანხა | D8: თანხა | E8: თანხა
A9: 1 | B9: ავანსი | C9: ='ავანსირების გრაფიკი'!D10 -> 0 | D9: ='ავანსირების გრაფიკი'!E10 -> 0 | E9: ='ავანსირების გრაფიკი'!F10 -> 0
A10: =A9+1 -> 2 | B10: შესრულება | C10: ='შესრულების გეგმა'!L227 -> 0 | D10: ='შესრულების გეგმა'!V227 -> 0 | E10: ='შესრულების გეგმა'!X227 -> 0
B11: ჯამი | C11: =SUM(C9:C10) -> 0 | D11: =SUM(D9:D10) -> 0 | E11: =SUM(E9:E10) -> 0

Sheet შესრულების გეგმა
B1: ხელშეკრულების თარიღი: | C1: DD.MM.20YY
B2: ხელშეკრულების #: | C2: XXXXXX
B3: პროექტი: | C3: =შემაჯამებელი!C3 -> მრავალფუნქციური სპორტულ-გამაჯანსაღებელი ცენტრის სამშენებლო სამუშაოები
B4: საბუთის დასახელება: | C4: შესრულების გეგმა
B5: შედგენის თარიღი: | C5: DD/MM/YY
D7: საპროექტო | G7: 46388 | I7: 46419 | K7: 46447 | M7: 46478 | O7: 46508 | Q7: 46539 | S7: 46569 | U7: 46600 | W7: 46631
A8: # | B8: დასახელება | C8: ზ/ე | D8: რაოდ. | E8: ერთ. ღირ. | F8: თანხა | G8: რაოდ. | H8: თანხა | I8: რაოდ. | J8: თანხა | K8: რაოდ. | L8: თანხა | M8: რაოდ. | N8: თანხა | O8: რაოდ. | P8: თანხა | Q8: რაოდ. | R8: თანხა | S8: რაოდ. | T8: თანხა | U8: რაოდ. | V8: თანხა | W8: რაოდ. | X8: თანხა
B9: კონსტრუქციული ნაწილი
A10: 1 | B10: I. მიწის სამუშაოები
A11: =A10+0.1 -> 1.1 | B11: ქვაბულის ამოღება, გრუნტის დატვირთა ა/თვითმცლელებზე და ტრანსპორტირება | C11: მ³ | D11: 1300
A12: =A11+0.1 -> 1.2 | B12: გრუნტის დამუშავება ხელით | C12: მ³ | D12: 48.75
A13: =A12+0.1 -> 1.3 | B13: შენობის კედელთან ქვიშა-ხრეშოვანი ნარევის უკუჩაყრა | C13: მ³ | D13: 128
A14: =A13+0.1 -> 1.4 | B14: ქვიშა-ხრეშოვანი ნარევის ფენა-ფენა დატკეპნა ვიბროსატკეპნით | C14: მ³ | D14: 128
A15: =MAX($A$11:A14)+1 -> 2.4 | B15: საძირკველი -2,60 მ ნიშნულამდე
A16: =A15+0.1 -> 2.5 | B16: მონოლითური რკ/ბეტონის თანაორმოების #1 და #2 და ლიფტის შახტის #3 თანაორმოს ქვეშ ბეტონის მომზადების მოწყობა სისქით 100 მმ. ნიშნული -3,60 მ | C16: მ³ | D16: 2.19
A17: =A16+0.1 -> 2.6 | B17: მონოლითური რკ/ბეტონის თანაორმოების #1 და #2 და ლიფტის შახტის #3 თანაორმოს ჰორიზონტალური და ვერტიკალური წასასმელი ჰიდროიზოლაციის მოწყობა | C17: მ² | D17: 85.74
A18: =A17+0.1 -> 2.7 | B18: მონოლითური რკ/ბეტონის თანაორმოების #1 და #2 და ლიფტის შახტის #3 თანაორმოს მოწყობა | C18: მ³ | D18: 14.9
A19: =A18+0.1 -> 2.8 | B19: მონოლითური რკ/ბეტონის საძირკვლის ფილის ქვეშ ბეტონის მომზადების მოწყობა სისქით 100 მმ. ნიშნული -3,00 მ | C19: მ³ | D19: 42
A20: =A19+0.1 -> 2.9 | B20: მონოლითური რკ/ბეტონის საძირკვლის ფილის მოწყობა სისქით 40 სმ, ნიშნულზე -2,60 მ | C20: მ³ | D20: 173
A21: 2.9.1 | B21: საძირკვლის ფილაში სამონტაჟო ელემენტების მოწყობა | C21: ტ | D21: 0.25973
A22: 2.10 | B22: სვეტების არმატურის ნაშვერების მოწყობა: ს.ნ-1 -13 ც, ს.ნ.-2 - 7 ც, | C22: ტ | D22: 1.1336
A23: 3 | B23: სამუშაოები -2,60 მ ნიშნულიდან. 0,00 მ ნიშნულამდე
A24: =A23+0.1 -> 3.1 | B24: მონოლითური რკ/ბეტონის სარდაფის კედლების მოწყობა სისქით 250 მმ - მ.კ-1 და მ.კ-2 -2,60 მ ნიშნულიდან 0,00 მ ნიშნულამდე | C24: მ³ | D24: 41.03
A25: =A24+0.1 -> 3.2 | B25: მონოლითური რკ/ბეტონის კედლების მოწყობა სისქით 250 მმ - მ.კ-10 -1,50 მ ნიშნულიდან 0,00 მ ნიშნულამდე | C25: მ³ | D25: 4.13
A26: =A25+0.1 -> 3.3 | B26: მონოლითური რკ/ბეტონის კედლების მოწყობა სისქით 300 მმ - მ.კ - 3, 4, 5, 6, 7 -2,60 მ ნიშნულიდან 0,00 მ ნიშნულამდე | C26: მ³ | D26: 27.5
A27: =A26+0.1 -> 3.4 | B27: მონოლითური რკ/ბეტონის კედლების მოწყობა სისქით 300 მმ - მ.კ-8, 9 -1,50 მ ნიშნულიდან 0,00 მ ნიშნულამდე | C27: მ³ | D27: 13.07
A28: =A27+0.1 -> 3.5 | B28: მონოლითური რკ/ბეტონის სვეტების მოწყობა ▼-2,60 მ. ნიშ-დან ▼0,00 მ. ნიშ-მდე ზომით 40*40 სმ. სვ-1,2,3 | C28: მ³ | D28: 6.46
A29: =A28+0.1 -> 3.6 | B29: მონოლითური რკ/ბეტონის რიგელების მოწყობა -1,50 მ ნიშნულზე | C29: მ³ | D29: 11.52
A30: =A29+0.1 -> 3.7 | B30: მონოლითური რკ/ბეტონის გადახურვის ფილის მოწყობა -1,50 მ ნიშ-ზე, სისქით 25 სმ | C30: მ³ | D30: 32.2
A31: =A30+0.1 -> 3.8 | B31: მონოლითური რკ/ბეტონის რიგელების მოწყობა 0,00 მ ნიშნულზე | C31: მ³ | D31: 15.18
A32: =A31+0.1 -> 3.9 | B32: მონოლითური რკ/ბეტონის გადახურვის ფილის მოწყობა 0,00 მ ნიშ-ზე, სისქით 18სმ | C32: მ³ | D32: 49.2
A33: 3.1 | B33: სარდაფის კედლების დათბუნება სისქით 50 მმ. | C33: მ² | D33: 308.465
A34: =A33+0.01 -> 3.11 | B34: მონოლითური რკ/ბეტონის კედლების ვერტიკტალური ასაკრავი ჰიდროიზოლაცია 1 ფენა რულონული ჰიდროსაიზოლაციო მასალით | C34: მ² | D34: 308.465
A35: =A34+0.01 -> 3.12 | B35: კედლების ჰიდროიზოლაციაზე დამცავი პროფილირებული მემბრანის მოწყობა | C35: მ² | D35: 308.465
A36: =A35+0.01 -> 3.13 | B36: სახანძრო ავზის რკ/ბეტონის კონსტრუქციის ჰიდროიზოლაციის მოწყობა შეღწევადი ტიპის მშრალი ჰიდროსაიზოლაციო მასალით შიგნითა მხრიდან | C36: მ² | D36: 79.895
A37: =A36+0.01 -> 3.14 | B37: სახანძრო ავზის რკ/ბეტონის კონსტრუქციის გადაბმის ნაკერების და პირაპირების ჰიდროიზოლაციის მოწყობა შეღწევადი ტიპის მშრალი ჰიდროსაიზოლაციო მასალით შიგნითა მხრიდან | C37: მ | D37: 36.5
A38: =A37+0.01 -> 3.15 | B38: აუზის რკ/ბეტონის კონსტრუქციის ჰიდროიზოლაციის მოწყობა შეღწევადი ტიპის მშრალი ჰიდროსაიზოლაციო მასალით შიგნითა მხრიდან | C38: მ² | D38: 72
A39: =A38+0.01 -> 3.16 | B39: სახანძრო ავზის რკ/ბეტონის კონსტრუქციის გადაბმის ნაკერების და პირაპირების ჰიდროიზოლაციის მოწყობა შეღწევადი ტიპის მშრალი ჰიდროსაიზოლაციო მასალით შიგნითა მხრიდან | C39: მ | D39: 48
A40: 4 | B40: სამუშაოები 0,00 მ ნიშნულიდან +2,90 მ ნიშნულამდე
A41: =A40+0.1 -> 4.1 | B41: მონოლითური რკ/ბეტონის სვეტების მოწყობა ▼0,00 მ. ნიშ-დან ▼2,80 მ. ნიშ-მდე სვ-6 ზომით 40*40 სმ. და სვ-8 ზომით 20*40 სმ | C41: მ³ | D41: 0.6
A42: =A41+0.1 -> 4.2 | B42: მონოლითური რკ/ბეტონის სვეტების მოწყობა ▼0,00 მ. ნიშ-დან ▼2,90 მ. ნიშ-მდე სვ-4,5,7 ზომით 40*40 სმ | C42: მ³ | D42: 7.86
A43: =A42+0.1 -> 4.3 | B43: მონოლითური რკ/ბეტონის რიგელების მოწყობა +2,80 მ. და + 2,90 ნიშნულებზე | C43: მ³ | D43: 10.38
A44: =A43+0.1 -> 4.4 | B44: ჩასატანებელი დეტალების დამზადება და მონტაჟი +2.90 მ ნიშნულზე რიგელებში /ლითონის კოჭების დასამაგრებლად/
A45: 4,4,1 | B45: ჩასატანებელი დეტალების დამზადება (ჩ.დ-1 - 16 ცალი, ჩ.დ. 2 -34 ცალი, ჩ.დ. 3 - 15 ცალი) | C45: ტ | D45: 0.948
A46: 4,4,2 | B46: რიგელებზე +2.90 მ. ნიშნულზე ჩასატანებელი დეტალების მოწყობა | C46: ტ | D46: 0.948
A47: =A44+0.1 -> 4.5 | B47: მონოლითური რკ/ბეტონის გადახურვის ფილის მოწყობა +2.80 მ და +2.90 მ ნიშ-ზე, სისქით 18სმ | C47: მ³ | D47: 5.3
A48: 5 | B48: სამუშაოები +2.90 მ ნიშნულიდან +5.80 მ ნიშნულამდე,
A49: =A48+0.1 -> 5.1 | B49: მონოლითური რკ/ბეტონის სვეტების მოწყობა ▼2.90 მ. ნიშ-დან ▼5.80 მ. ნიშ-მდე სვ-9,10, 11 ზომით 40*40 სმ | C49: მ³ | D49: 8.02
A50: =A49+0.1 -> 5.2 | B50: მონოლითური რკ/ბეტონის რიგელების მოწყობა +5,80 მ. ნიშნულბზე | C50: მ³ | D50: 16.72
A51: =A50+0.1 -> 5.3 | B51: მონოლითური რკ/ბეტონის გადახურვის ფილის მოწყობა +5.80 მ ნიშ-ზე, სისქით 18სმ | C51: მ³ | D51: 69.5
A52: 6 | B52: სამუშაოები +5.80 მ ნიშნულიდან +10.00 მ ნიშნულამდე,
A53: =A52+0.1 -> 6.1 | B53: მონოლითური რკ/ბეტონის სვეტების მოწყობა ▼5.80 მ. ნიშ-დან ▼10.00 მ. ნიშ-მდე სვ-12, 13 ზომით 40*40 სმ | C53: მ³ | D53: 12.16
A54: =A53+0.1 -> 6.2 | B54: მონოლითური რკ/ბეტონის რიგელების მოწყობა +10.00 მ. ნიშნულბზე | C54: მ³ | D54: 16.28
A55: =A54+0.1 -> 6.3 | B55: მონოლითური რკ/ბეტონის გადახურვის ფილის მოწყობა +10.00 მ ნიშ-ზე, სისქით 18სმ | C55: მ³ | D55: 74.8904
A56: 7 | B56: სამუშაოები +10.00 მ-დან +11.05 მ ნიშნულზე /ლიფტის შახტის ტექნიკური ნაწილის გადახურვა
A57: =A56+0.1 -> 7.1 | B57: მონოლითური რკ/ბეტონის კედლის მოწყობა სისქით 200 მმ - ლიფტის შახტის ტექნიკური ნაწილი კედელი +10.00 მ ნიშნულიდან +10.87 მ ნიშნულამდე | C57: მ³ | D57: 1.8096
A58: =A57+0.1 -> 7.2 | B58: მონოლითური რკ/ბეტონის გადახურვის ფილის მოწყობა +11.05 მ ნიშ-ზე, სისქით 18სმ | C58: მ³ | D58: 1.3
A59: =A58+0.1 -> 7.3 | B59: მონოლითური რკ/ბეტონის პარაპეტის მოწყობა სისქით 200 მმ - +10.00 მ ნიშნულიდან +10.65 მ ნიშნულამდე | C59: მ³ | D59: 10.79
A60: 8 | B60: მონოლითური რკ/ბეტონის კიბეების კიბე-1 და კიბე -2-ის მოწყობა ▼-2.60 ნიშ-დან ▼5.80 მ. ნიშ-მდე
A61: =A60+0.1 -> 8.1 | B61: მონოლითირი რკ/ბეტონის კიბეების კიბე-1 და კიბე -2 მოწყობა ▼-2.60 ნიშ-დან ▼0.00 ნიშ-მდე | C61: მ³ | D61: 5.72
A62: =A61+0.1 -> 8.2 | B62: მონოლითირი რკ/ბეტონის კიბეების კიბე-1 და კიბე -2 მოწყობა ▼0.00 ნიშ-დან ▼+2.90 ნიშ-მდე | C62: მ³ | D62: 6.08
A63: =A62+0.1 -> 8.3 | B63: მონოლითური რკ/ბეტონის კედლის მოწყობა სისქით 200 მმ - კიბის კედელი კ.მ.კ. 1 და კ.მ.კ. 2 +0.00 მ ნიშნულიდან +1.42 მ ნიშნულამდე | C63: მ³ | D63: 1.76
A64: =A63+0.1 -> 8.4 | B64: მონოლითირი რკ/ბეტონის კიბეების კიბე-1 და კიბე -2 მოწყობა ▼+2.90 ნიშ-დან ▼+5.80 ნიშ-მდე | C64: მ³ | D64: 6.08
A65: =A64+0.1 -> 8.5 | B65: მონოლითური რკ/ბეტონის კედლის მოწყობა სისქით 200 მმ - კიბის კედელი კ.მ.კ. 1 და კ.მ.კ. 2 +2.90 მ ნიშნულიდან +4.32 მ ნიშნულამდე | C65: მ³ | D65: 1.76
A66: 9 | B66: ლითონის კოჭების მოწყობა ▼+2.90 მ. ნიშ-მდე
A67: 9.1 | B67: ლითონის კოჭების მოწყობა ▼+2.90 მ. ნიშ-მდე | C67: ტ | D67: 4.21066
A68: =A67+0.1 -> 9.2 | B68: ლითონის კონსტრუქციების შეღებვა ზეთოვანი საღებავით ორჯერ. | C68: მ² | D68: 142.48007
B69: არქიტექტურული ნაწილი
A70: 10 | B70: კედლები და ტიხრები
A71: =A70+0.1 -> 10.1 | B71: ფასადის კედლების მოწყობა პემზის ბლოკებისაგან სისქით 20სმ | C71: მ2 | D71: 355.11
A72: =A71+0.1 -> 10.2 | B72: ფასადის ბლოკის კედლების /სისქით 20 სმ/ არმირება | C72: ტ | D72: 0.39895962
A73: =A72+0.1 -> 10.3 | B73: შიდა კედლების მოწყობა ბეტონის ბლოკებისაგან სისქით 20სმ | C73: მ2 | D73: 484.952
A74: =A73+0.1 -> 10.4 | B74: ბლოკის კედლების /სისქით 20 სმ/ არმირება | C74: ტ | D74: 0.517593
A75: =A74+0.1 -> 10.5 | B75: ტიხრის ბლოკის მოწყობა | C75: მ2 | D75: 186.4944
A76: =A75+0.1 -> 10.6 | B76: ტიხრების არმირება | C76: ტ | D76: 0.1671994
A77: =A76+0.1 -> 10.7 | B77: მონოლითური რკ/ბეტონის ზღუდარის მოწყობა 20 სმ სიგანის | C77: მ3 | D77: 1.6
A78: =A77+0.1 -> 10.8 | B78: მონოლითური რკ/ბეტონის ზღუდარის მოწყობა 10 სმ - სიგანის | C78: მ3 | D78: 0.172
A79: 11 | B79: სახურავი
A80: =A79+0.1 -> 11.1 | B80: სახურავი 1 - +10.00 მ ნიშნულზე: ორთქლიზოლაცია, XPS 30-50 მმ (პირველი ფენა), XPS 30-50 მმ (მეორე ფენა), პემზა (ქანობის მოსაწყობად 150 მმ), ქვიშა-ცემენტის მოჭიმვა სისქით 60 მმ (მ100), ჰიდროიზოლაციის მოწყობა 2 ფენა ლინოკრომით | C80: მ2 | D80: 398.8
A81: 11,1,1 | B81: სახურავის ორთქლიზოლაციის მოწყობა | C81: მ2 | D81: 398.8
A82: 11,1,2 | B82: ბრტყელ გადახურვაზე XPS დათბუნების მოწყობა (100 მმ) | C82: მ2 | D82: 398.8
A83: 11,1,3 | B83: თბოიზოლაცია პემზით საშუალო სისქით 15 სმ | C83: მ3 | D83: 59.82
A84: 11,1,4 | B84: ცემენტის მოჭიმვის მოწყობა სისქით 60 მმ (მ-100) | C84: მ2 | D84: 398.8
A85: 11,1,5 | B85: სახურავის მოჭიმვის არმირება მზა ლითონის ბადით (ბიჯი 10*10 სმ) | C85: ტ | D85: 0.82575528
A86: 11,1,6 | B86: ჰიდროიზოლაციის მოწყობა 2 ფენა ლინოკრომით პარაპეტზე და კედლებზე ამოკეცვით | C86: მ2 | D86: 423.865
A87: =A80+0.1 -> 11.2 | B87: პარაპეტზე თუნუქის საცრემლურის მოწყობა +10.65 მ ნიშნულზე | C87: მ | D87: 83.55
A88: =A87+0.1 -> 11.3 | B88: წყალსაწრეტი მილების მოწყობა | C88: მ | D88: 20
A89: =A88+0.1 -> 11.4 | B89: სახურავი 2 - +11.05 მ ნიშნულზე: XPS დათბუნების მოწყობა (30 მმ), პემზა (ქანობის მოსაწყობად 50 მმ), ქვიშა-ცემენტის მოჭიმვა სისქით 60 მმ (მ100), ჰიდროიზოლაციის მოწყობა 2 ფენა ლინოკრომით | C89: მ2 | D89: 4.85
A90: 11,4,1 | B90: ბრტყელ გადახურვაზე XPS დათბუნების მოწყობა (30 მმ) | C90: მ2 | D90: 4.85
A91: 11,4,2 | B91: თბოიზოლაცია პემზით სისქით 5 სმ | C91: მ3 | D91: 0.2425
A92: 11,4,3 | B92: ცემენტის მოჭიმვის მოწყობა სისქით 60 მმ (მ-100) | C92: მ2 | D92: 4.85
A93: 11,4,4 | B93: ჰიდროიზოლაციის მოწყობა 2 ფენა ლინოკრომით პარაპეტზე ამოკეცვით | C93: მ2 | D93: 6.91
A94: =A89+0.1 -> 11.5 | B94: ლიფტის სახურავის პარაპეტზე თუნუქის საცრემლურის მოწყობა +11.25 მ ნიშნულზე | C94: მ | D94: 10.3
A95: 12 | B95: კარ -ფანჯრის მოწყობა
A96: =A95+0.1 -> 12.1 | B96: ალუმინის საფასადე ვიტრაჟის მონტაჟი | C96: მ2 | D96: 293.2
A97: =A96+0.1 -> 12.2 | B97: ალუმინის შიდა ვიტრაჟის მონტაჟი | C97: მ2 | D97: 47.76
A98: 13 | B98: კარები
A99: =A98+0.1 -> 13.1 | B99: კიბის, კიბის ჰოლში შესასვლელი ლითონის კარის მონტაჟი და ღირებულება /8 ც 1*2.2 მ/ | C99: მ2 | D99: 17.6
A100: =A99+0.1 -> 13.2 | B100: დამხმარე და ტექნიკურ სათავსოების შესასვლელი ლითონის კარის მონტაჟი და ღირებულება /4 ც - 1*2.2მ, 2 ც 1.5*2.2 მ/ | C100: მ2 | D100: 15.4
A101: =A100+0.1 -> 13.3 | B101: მდფ კარის მონტაჟი (ფურნიტურით) /გასახდელების სველ წერტილებში / 5 ც - 1.0*2.2 მ და 4 ც-0.8*2.2 მ/ | C101: მ2 | D101: 18.04
...

Sheet ავანსირების გრაფიკი
B1: ხელშეკრულების თარიღი: | C1: DD.MM.20YY
B2: ხელშეკრულების #: | C2: XXXXXX
B3: პროექტი: | C3: ='შესრულების გეგმა'!C3 -> მრავალფუნქციური სპორტულ-გამაჯანსაღებელი ცენტრის სამშენებლო სამუშაოები
B4: საბუთის დასახელება: | C4: ავანსირების გრაფიკი
B5: შედგენის თარიღი: | C5: DD/MM/YY
C7: სახელშეკრულებო | D7: 46296 | E7: 46327 | F7: 46357
A8: # | B8: დასახელება | C8: თანხა | D8: თანხა | E8: თანხა | F8: თანხა
A9: 1 | B9: ქვაბულის და შენობის ხიმინჯების მოწყობა
B10: ჯამი | C10: =SUM(C9:C9) -> 0 | D10: =SUM(D9:D9) -> 0 | E10: =SUM(E9:E9) -> 0 | F10: =SUM(F9:F9) -> 0
B16: სახ. ღირებულება | C16: =C10 -> 0
B17: მოთხოვნილი ავანსი | C17: =SUM(D10:F10) -> 0
B18: ავანსის % | C18: =IFERROR(C17/C16,0) -> 0
