Workbook

Sheet შემაჯამებელი
B1: ხელშეკრულების თარიღი: | C1: DD.MM.20YY
B2: ხელშეკრულების #: | C2: XXXXXX
B3: პროექტი: | C3: მრავალფუნქციური სპორტულ-გამაჯანსაღებელი ცენტრის სამშენებლო სამუშაოები
B4: საბუთის დასახელება: | C4: ფინანსური გრაფიკი
B5: შედგენის თარიღი: | C5: DD/MM/YY
C7: 46296 | D7: 46327 | E7: 46357
A8: # | B8: დასახელება | C8: თანხა | D8: თანხა | E8: თანხა
A9: 1 | B9: ავანსი | C9: ='ავანსირების გრაფიკი'!D10 -> 0 | D9: ='ავანსირების გრაფიკი'!E10 -> 0 | E9: ='ავანსირების გრაფიკი'!F10 -> 0
A10: =A9+1 -> 2 | B10: შესრულება | C10: ='შესრულების გეგმა'!L227 -> 0 | D10: ='შესრულების გეგმა'!V227 -> 0 | E10: ='შესრულების გეგმა'!X227 -> 0
B11: ჯამი | C11: =SUM(C9:C10) -> 0 | D11: =SUM(D9:D10) -> 0 | E11: =SUM(E9:E10) -> 0

Sheet შესრულების გეგმა
B1: ხელშეკრულების თარიღი: | C1: DD.MM.20YY
B2: ხელშეკრულების #: | C2: XXXXXX
B3: პროექტი: | C3: =შემაჯამებელი!C3 -> მრავალფუნქციური სპორტულ-გამაჯანსაღებელი ცენტრის სამშენებლო სამუშაოები
B4: საბუთის დასახელება: | C4: შესრულების გეგმა
B5: შედგენის თარიღი: | C5: DD/MM/YY
D7: საპროექტო | G7: 46388 | I7: 46419 | K7: 46447 | M7: 46478 | O7: 46508 | Q7: 46539 | S7: 46569 | U7: 46600 | W7: 46631
A8: # | B8: დასახელება | C8: ზ/ე | D8: რაოდ. | E8: ერთ. ღირ. | F8: თანხა | G8: რაოდ. | H8: თანხა | I8: რაოდ. | J8: თანხა | K8: რაოდ. | L8: თანხა | M8: რაოდ. | N8: თანხა | O8: რაოდ. | P8: თანხა | Q8: რაოდ. | R8: თანხა | S8: რაოდ. | T8: თანხა | U8: რაოდ. | V8: თანხა | W8: რაოდ. | X8: თანხა
B9: კონსტრუქციული ნაწილი
A10: 1 | B10: I. მიწის სამუშაოები
A11: =A10+0.1 -> 1.1 | B11: ქვაბულის ამოღება, გრუნტის დატვირთა ა/თვითმცლელებზე და ტრანსპორტირება | C11: მ³ | D11: 1300
A12: =A11+0.1 -> 1.2 | B12: გრუნტის დამუშავება ხელით | C12: მ³ | D12: 48.75
A13: =A12+0.1 -> 1.3 | B13: შენობის კედელთან ქვიშა-ხრეშოვანი ნარევის უკუჩაყრა | C13: მ³ | D13: 128
A14: =A13+0.1 -> 1.4 | B14: ქვიშა-ხრეშოვანი ნარევის ფენა-ფენა დატკეპნა ვიბროსატკეპნით | C14: მ³ | D14: 128
A15: =MAX($A$11:A14)+1 -> 2.4 | B15: საძირკველი -2,60 მ ნიშნულამდე
A16: =A15+0.1 -> 2.5 | B16: მონოლითური რკ/ბეტონის თანაორმოების #1 და #2 და ლიფტის შახტის #3 თანაორმოს ქვეშ ბეტონის მომზადების მოწყობა სისქით 100 მმ. ნიშნული -3,60 მ | C16: მ³ | D16: 2.19
A17: =A16+0.1 -> 2.6 | B17: მონოლითური რკ/ბეტონის თანაორმოების #1 და #2 და ლიფტის შახტის #3 თანაორმოს ჰორიზონტალური და ვერტიკალური წასასმელი ჰიდროიზოლაციის მოწყობა | C17: მ² | D17: 85.74
A18: =A17+0.1 -> 2.7 | B18: მონოლითური რკ/ბეტონის თანაორმოების #1 და #2 და ლიფტის შახტის #3 თანაორმოს მოწყობა | C18: მ³ | D18: 14.9
A19: =A18+0.1 -> 2.8 | B19: მონოლითური რკ/ბეტონის საძირკვლის ფილის ქვეშ ბეტონის მომზადების მოწყობა სისქით 100 მმ. ნიშნული -3,00 მ | C19: მ³ | D19: 42
A20: =A19+0.1 -> 2.9 | B20: მონოლითური რკ/ბეტონის საძირკვლის ფილის მოწყობა სისქით 40 სმ, ნიშნულზე -2,60 მ | C20: მ³ | D20: 173
A21: 2.9.1 | B21: საძირკვლის ფილაში სამონტაჟო ელემენტების მოწყობა | C21: ტ | D21: 0.25973
A22: 2.10 | B22: სვეტების არმატურის ნაშვერების მოწყობა: ს.ნ-1 -13 ც, ს.ნ.-2 - 7 ც, | C22: ტ | D22: 1.1336
A23: 3 | B23: სამუშაოები -2,60 მ ნიშნულიდან. 0,00 მ ნიშნულამდე
A24: =A23+0.1 -> 3.1 | B24: მონოლითური რკ/ბეტონის სარდაფის კედლების მოწყობა სისქით 250 მმ - მ.კ-1 და მ.კ-2 -2,60 მ ნიშნულიდან 0,00 მ ნიშნულამდე | C24: მ³ | D24: 41.03
A25: =A24+0.1 -> 3.2 | B25: მონოლითური რკ/ბეტონის კედლების მოწყობა სისქით 250 მმ - მ.კ-10 -1,50 მ ნიშნულიდან 0,00 მ ნიშნულამდე | C25: მ³ | D25: 4.13
A26: =A25+0.1 -> 3.3 | B26: მონოლითური რკ/ბეტონის კედლების მოწყობა სისქით 300 მმ - მ.კ - 3, 4, 5, 6, 7 -2,60 მ ნიშნულიდან 0,00 მ ნიშნულამდე | C26: მ³ | D26: 27.5
A27: =A26+0.1 -> 3.4 | B27: მონოლითური რკ/ბეტონის კედლების მოწყობა სისქით 300 მმ - მ.კ-8, 9 -1,50 მ ნიშნულიდან 0,00 მ ნიშნულამდე | C27: მ³ | D27: 13.07
A28: =A27+0.1 -> 3.5 | B28: მონოლითური რკ/ბეტონის სვეტების მოწყობა ▼-2,60 მ. ნიშ-დან ▼0,00 მ. ნიშ-მდე ზომით 40*40 სმ. სვ-1,2,3 | C28: მ³ | D28: 6.46
A29: =A28+0.1 -> 3.6 | B29: მონოლითური რკ/ბეტონის რიგელების მოწყობა -1,50 მ ნიშნულზე | C29: მ³ | D29: 11.52
A30: =A29+0.1 -> 3.7 | B30: მონოლითური რკ/ბეტონის გადახურვის ფილის მოწყობა -1,50 მ ნიშ-ზე, სისქით 25 სმ | C30: მ³ | D30: 32.2
A31: =A30+0.1 -> 3.8 | B31: მონოლითური რკ/ბეტონის რიგელების მოწყობა 0,00 მ ნიშნულზე | C31: მ³ | D31: 15.18
A32: =A31+0.1 -> 3.9 | B32: მონოლითური რკ/ბეტონის გადახურვის ფილის მოწყობა 0,00 მ ნიშ-ზე, სისქით 18სმ | C32: მ³ | D32: 49.2
A33: 3.1 | B33: სარდაფის კედლების დათბუნება სისქით 50 მმ. | C33: მ² | D33: 308.465
A34: =A33+0.01 -> 3.11 | B34: მონოლითური რკ/ბეტონის კედლების ვერტიკტალური ასაკრავი ჰიდროიზოლაცია 1 ფენა რულონული ჰიდროსაიზოლაციო მასალით | C34: მ² | D34: 308.465
A35: =A34+0.01 -> 3.12 | B35: კედლების ჰიდროიზოლაციაზე დამცავი პროფილირებული მემბრანის მოწყობა | C35: მ² | D35: 308.465
A36: =A35+0.01 -> 3.13 | B36: სახანძრო ავზის რკ/ბეტონის კონსტრუქციის ჰიდროიზოლაციის მოწყობა შეღწევადი ტიპის მშრალი ჰიდროსაიზოლაციო მასალით შიგნითა მხრიდან | C36: მ² | D36: 79.895
A37: =A36+0.01 -> 3.14 | B37: სახანძრო ავზის რკ/ბეტონის კონსტრუქციის გადაბმის ნაკერების და პირაპირების ჰიდროიზოლაციის მოწყობა შეღწევადი ტიპის მშრალი ჰიდროსაიზოლაციო მასალით შიგნითა მხრიდან | C37: მ | D37: 36.5
A38: =A37+0.01 -> 3.15 | B38: აუზის რკ/ბეტონის კონსტრუქციის ჰიდროიზოლაციის მოწყობა შეღწევადი ტიპის მშრალი ჰიდროსაიზოლაციო მასალით შიგნითა მხრიდან | C38: მ² | D38: 72
A39: =A38+0.01 -> 3.16 | B39: სახანძრო ავზის რკ/ბეტონის კონსტრუქციის გადაბმის ნაკერების და პირაპირების ჰიდროიზოლაციის მოწყობა შეღწევადი ტიპის მშრალი ჰიდროსაიზოლაციო მასალით შიგნითა მხრიდან | C39: მ | D39: 48
A40: 4 | B40: სამუშაოები 0,00 მ ნიშნულიდან +2,90 მ ნიშნულამდე
A41: =A40+0.1 -> 4.1 | B41: მონოლითური რკ/ბეტონის სვეტების მოწყობა ▼0,00 მ. ნიშ-დან ▼2,80 მ. ნიშ-მდე სვ-6 ზომით 40*40 სმ. და სვ-8 ზომით 20*40 სმ | C41: მ³ | D41: 0.6
...

Sheet ავანსირების გრაფიკი
B1: ხელშეკრულების თარიღი: | C1: DD.MM.20YY
B2: ხელშეკრულების #: | C2: XXXXXX
B3: პროექტი: | C3: ='შესრულების გეგმა'!C3 -> მრავალფუნქციური სპორტულ-გამაჯანსაღებელი ცენტრის სამშენებლო სამუშაოები
B4: საბუთის დასახელება: | C4: ავანსირების გრაფიკი
B5: შედგენის თარიღი: | C5: DD/MM/YY
C7: სახელშეკრულებო | D7: 46296 | E7: 46327 | F7: 46357
A8: # | B8: დასახელება | C8: თანხა | D8: თანხა | E8: თანხა | F8: თანხა
A9: 1 | B9: ქვაბულის და შენობის ხიმინჯების მოწყობა
B10: ჯამი | C10: =SUM(C9:C9) -> 0 | D10: =SUM(D9:D9) -> 0 | E10: =SUM(E9:E9) -> 0 | F10: =SUM(F9:F9) -> 0
B16: სახ. ღირებულება | C16: =C10 -> 0
B17: მოთხოვნილი ავანსი | C17: =SUM(D10:F10) -> 0
B18: ავანსის % | C18: =IFERROR(C17/C16,0) -> 0
