Workbook

Sheet ობიექტები
A1: ელექტროენერგიის მიწოდება — ობიექტების ჩამონათვალი (28 აბონენტი)
A2: შემსყიდველი: სს „საქართველოს კლინიკები“ · წყარო: ელ.ენერგია-INFO.xlsx, Analysis-კომუნალურები-რეპორტი.xlsx · ყვითელი — შესავსები/დასაზუსტებელი · „ტენდერში“ სვეტით აირჩიეთ, რომელი ობიექტი შევიდეს
A4: # | B4: კოდი | C4: ობიექტი | D4: მისამართი | E4: საკადასტრო კოდი | F4: აბონენტის # | G4: მრიცხველის # | H4: მრიცხველის ტიპი | I4: ძაბვის საფეხური (კვ) | J4: მიერთებული სიმძლავრე (კვტ) | K4: ზონა | L4: ტენდერში (კი/არა) | M4: შენიშვნა
A5: 1 | B5: SHH | C5: სს „საქართველოს კლინიკები“ - შუახევის კლინიკა | D5: დაბა შუახევი, რუსთაველის ქუჩა N32 | E5: 24.02.32.052.003 | F5: 6310268321 | G5: 49710346-24 | H5: ჭკვიანი | I5: 10 | K5: რეგიონები (ეპ ჯორჯია) | L5: კი | M5: სიმძლავრე დაზუსტების ეტაპზეა
A6: 2 | B6: QDH | C6: სს „საქართველოს კლინიკები“ - ქედის კლინიკა | D6: დაბა ქედა , რუსთაველის N14 | E6: 21.03.32.619 | F6: 6310268332 | G6: 0160408-2008 | H6: ძველი | I6: 10 | J6: 350 | K6: რეგიონები (ეპ ჯორჯია) | L6: კი | M6: ძველი მრიცხველი — საათობრივი პროფილი არ იქნება
A7: 3 | B7: XLH | C7: სს „საქართველოს კლინიკები“ - ხულოს კლინიკა | D7: დაბა ხულო , დ. აღმაშენებლის ქუჩა N3-ის მიმდებარე ტერიტორია | E7: 23.11.31.059 | F7: 6510001912 | G7: 23928105 01933-90182443-14-0 | H7: ძველი | I7: 10 | J7: 200 | K7: რეგიონები (ეპ ჯორჯია) | L7: კი | M7: ძველი მრიცხველი — საათობრივი პროფილი არ იქნება
A8: 4 | B8: TYH | C8: სს „საქართველოს კლინიკები“ - ტყიბულის კლინიკა | D8: ქ.ტყიბული , თაბუკაშვილის ქუჩა N10, მიმდებარედ | E8: 39.01.26.059/39.01.26.011 | F8: 1810197641 | G8: 01325307-2018 | H8: ჭკვიანი | I8: 6 | J8: 200 | K8: რეგიონები (ეპ ჯორჯია) | L8: კი
A9: 5 | B9: ABH | C9: სს „საქართველოს კლინიკები“ - აბაშის კლინიკა | D9: ქ.აბაშა ,თავისუფლების ქუჩა N143 | E9: 40.01.34.034 | F9: 0810186382 | G9: 26615235-16 00531140-2021 | H9: ჭკვიანი | I9: 10 | K9: რეგიონები (ეპ ჯორჯია) | L9: კი | M9: სიმძლავრე დაზუსტების ეტაპზეა
A10: 6 | B10: TRH | C10: სს „საქართველოს კლინიკები“ - თერჯოლის კლინიკა | D10: ქ.თერჯოლა , რუსთაველის ქუჩა N69 | E10: 33.09.33.023 | F10: 2110260011 | G10: 07957345-11 | H10: ჭკვიანი | I10: 10 | J10: 200 | K10: რეგიონები (ეპ ჯორჯია) | L10: კი
A11: 7 | B11: AXH | C11: სს „საქართველოს კლინიკები“ - ახმეტის კლინიკა | D11: ქ.ახმეტა, რუსთაველის ქუჩა N78ა | E11: 50.04.43.118 | F11: 9210004072 | G11: 60838280 | H11: ჭკვიანი | I11: 10 | J11: 500 | K11: რეგიონები (ეპ ჯორჯია) | L11: კი
A12: 8 | B12: YVH | C12: სს „საქართველოს კლინიკები“ - ყვარლის კლინიკა | D12: ქ.ყვარელი , ილია ჭავჭავაძის ქუჩა N3ა | E12: 57.06.60.018.004 | F12: 9110005110 | G12: 47129895-22 | H12: ჭკვიანი | I12: 10 | J12: 500 | K12: რეგიონები (ეპ ჯორჯია) | L12: კი
A13: 9 | B13: XBH | C13: სს „საქართველოს კლინიკები“ - ხობის კლინიკა | D13: ქ.ხობი , ჭყონდიდელის ქუჩა N2 | E13: 45.21.21.061 | F13: 0610201800 | G13: 00008124-2009 26615234-16 | H13: ჭკვიანი | I13: 10 | J13: 125 | K13: რეგიონები (ეპ ჯორჯია) | L13: კი
A14: 10 | B14: NCH | C14: სს „საქართველოს კლინიკები“ - ნინოწმინდის კლინიკა | D14: ქ.ნინოწმინდა , თავისუფლების ქუჩა N48 | E14: 65.12.32.790 | F14: 3110250851 | G14: 27366323 554522 | H14: ჭკვიანი | I14: 10 | J14: 80 | K14: რეგიონები (ეპ ჯორჯია) | L14: კი
A15: 11 | B15: ZURH | C15: სს "საქართველოს კლინიკები“ - ზუგდიდის რეფერალური ჰოსპიტალი | D15: ქ.ზუგდიდი, გამსახურდიას ქუჩა N206 | E15: 43.31.73.459 | F15: 0110697821 | G15: 51423045-25 7137685 | H15: ჭკვიანი | I15: 6 | J15: 500 | K15: რეგიონები (ეპ ჯორჯია) | L15: კი
A16: 12 | B16: KRH | C16: სს "საქართველოს კლინიკები" - ქუთაისის რეფერალური ჰოსპიტალი | D16: ქ.ქუთაისი, ოცხელის ქუჩა N2 | E16: 03.05.26.023 | F16: 1220264670/1219931872 | G16: 90120702 | H16: ჭკვიანი | I16: 10 | J16: 385 | K16: რეგიონები (ეპ ჯორჯია) | L16: კი
A17: 13 | B17: CAH | C17: სს „საქართველოს კლინიკები“ - წალენჯიხის კლინიკა | D17: ქ.წალენჯიხა, ჭურღულიას ქუჩა N6 | E17: 47.11.43.758 | F17: 0231000071 | G17: 00826643-2025 | H17: ჭკვიანი | I17: 0.38 | J17: 250 | K17: რეგიონები (ეპ ჯორჯია) | L17: კი
A18: 14 | B18: CHH | C18: სს „საქართველოს კლინიკები“ - ჩხოროწყუს კლინიკა | D18: დაბა ჩხოროწყუ , აღმაშენებელის ქუჩა N19 | E18: 46.02.43.036 | F18: 0310160872 | G18: 00826490-2025 | H18: ჭკვიანი | I18: 0.38 | J18: 60 | K18: რეგიონები (ეპ ჯორჯია) | L18: კი
A19: 15 | B19: MRH | C19: სს „საქართველოს კლინიკები“ - მარტვილის კლინიკა | D19: ქ.მარტვილი, მშვიდობის ქუჩა N111 | E19: 41.09.38.723 | F19: 0710225021 | G19: 00825626-2025 | H19: ჭკვიანი | I19: 0.38 | K19: რეგიონები (ეპ ჯორჯია) | L19: კი | M19: სიმძლავრე დაზუსტების ეტაპზეა
A20: 16 | B20: ASH | C20: სს „საქართველოს კლინიკები“ - ასპინძის კლინიკა | D20: დაბა ასპინძა, შალვა ახალციხელის ქუჩა N1 | E20: 60.01.33.417 | F20: 3310096560 | G20: 00827247-2025 | H20: ჭკვიანი | I20: 0.38 | K20: რეგიონები (ეპ ჯორჯია) | L20: კი | M20: სიმძლავრე დაზუსტების ეტაპზეა
A21: 17 | B21: POH | C21: სს "საქართველოს კლინიკები“ - ფოთის ჰოსპიტალი | D21: ქ.ფოთი, გურიის ქუჩა N171 | E21: 04.02.11.585 | F21: 0410051291 | G21: 46786259-22 | H21: ჭკვიანი | I21: 0.38 | K21: რეგიონები (ეპ ჯორჯია) | L21: კი | M21: სიმძლავრე დაზუსტების ეტაპზეა
A22: 18 | B22: AKH | C22: სს "საქართველოს კლინიკები" - ახალქალაქის ჰოსპიტალი | D22: ქ.ახალქალაქი, აღმაშენებლის ქუჩა N31 | E22: 63.18.40.092 | F22: 3110226840 | G22: 294688 | H22: ჭკვიანი | I22: 0.38 | K22: რეგიონები (ეპ ჯორჯია) | L22: კი | M22: სიმძლავრე დაზუსტების ეტაპზეა
A23: 19 | B23: CYH | C23: შპს წყალტუბოს რაიონული საავადმყოფო | D23: ქ.წყალტუბო , სოფელი ხომული, ერისთავის ქუჩის გაგრძელება N16 | E23: 29.09.35.030 | F23: 1310160720 | G23: 00826440-2025 | H23: ჭკვიანი | I23: 10 | K23: რეგიონები (ეპ ჯორჯია) | L23: კი | M23: სიმძლავრე დაზუსტების ეტაპზეა
A24: 20 | B24: QBH | C24: სს "საქართველოს კლინიკები" - ქობულეთის ჰოსპიტალი | D24: ქ.ქობულეთი, აბაშიძის ქუჩა N18 მიმდებარედ | E24: 20.42.08.786 | F24: 6110380380 | G24: 663842 123461971 | H24: ჭკვიანი | I24: 6 | J24: 750 | K24: რეგიონები (ეპ ჯორჯია) | L24: კი
A25: 21 | B25: TLH | C25: სს "საქართველოს კლინიკები" - თელავის რეფერალური ჰოსპიტალი | D25: ქ.თელავი, სეხნიაშვილის ქუჩა N1 | E25: 53.20.31.407 | F25: 9701662416 | G25: 744010 | H25: ჭკვიანი | I25: 10 | J25: 500 | K25: რეგიონები (ეპ ჯორჯია) | L25: კი
A26: 22 | B26: XNH | C26: სს „საქართველოს კლინიკები“ - ხონის კლინიკა | D26: ქ.ხონი , სოლომონ მეორეს ქუჩა N21 | E26: 37.07.38.138 | F26: 1510194341 | G26: 07957363-11 | H26: ჭკვიანი | I26: 10 | J26: 186 | K26: რეგიონები (ეპ ჯორჯია) | L26: კი
A27: 23 | B27: ACH | C27: სს "საქართველოს კლინიკები" - ახალციხის რეფერალური ჰოსპიტალი | D27: ქ.ახალციხე, რუსთაველის ქუჩა N105ა | E27: 62.09.53.1227 | F27: 2910252382 | G27: 48591819-23 48591800-23 | H27: ჭკვიანი | I27: 10 | J27: 400 | K27: რეგიონები (ეპ ჯორჯია) | L27: კი
A28: 24 | B28: ADH | C28: სს „საქართველოს კლინიკები“ - ადიგენის კლინიკა | D28: დაბა ადიგენი ,ბალახაშვილის ქუჩა N11 | E28: 61.05.21.814 | F28: 2910283852 | G28: 90121000 | H28: ჭკვიანი | I28: 10 | J28: 500 | K28: რეგიონები (ეპ ჯორჯია) | L28: კი
A29: 25 | B29: TCH | C29: სს "საქართველოს კლინიკები" - ი. ციციშვილის სახელობის ბავშვთა კლინიკა | D29: ქ.თბილისი, ჟვანიას ქუჩა N3 (ყოფილი ლუბლიანას ქ. 21) | E29: 01.13.01.008.058 | F29: 3327331 | G29: 05083803 | H29: ჭკვიანი | I29: 10 | J29: 500 | K29: თბილისი | L29: კი
A30: 26 | B30: QRH | C30: სს "საქართველოს კლინიკები" - ქარელის კლინიკა | D30: ქ.ქარელი ,ფანასკერტელის ქუჩა N30 | E30: 68.10.45.767 | F30: 3910270421/3810326321 | G30: 01386331 00232566-2017 | H30: ჭკვიანი | I30: 10 | K30: რეგიონები (ეპ ჯორჯია) | L30: კი | M30: სიმძლავრე დაზუსტების ეტაპზეა
A31: 27 | B31: GRH | C31: სს "საქართველოს კლინიკები" - გორის რეფერალური ჰოსპიტალი | D31: გორი, ცხინვალის გზატკ 14ა | E31: 66.45.07.500 | F31: 3610240511 | G31: 48591710-23 | H31: ჭკვიანი | I31: 10 | K31: რეგიონები (ეპ ჯორჯია) | L31: კი | M31: სიმძლავრე დაზუსტების ეტაპზეა
A32: 28 | B32: XRGH | C32: სს "საქართველოს კლინიკები" - ხაშურის რეფერალური ჰოსპიტალი/ხაშურის ცენტრალური კლინიკური საავადმყოფო | D32: ხაშური, ფარნავაზის 5 | E32: 69.08.64.240 | F32: 3810327461 | G32: 00722351-2023 | H32: ჭკვიანი | I32: 10 | K32: რეგიონები (ეპ ჯორჯია) | L32: კი | M32: სიმძლავრე დაზუსტების ეტაპზეა
A35: შემსყიდველის რეკვიზიტები
A36: იურიდიული პირი | D36: სს „საქართველოს კლინიკები“
A37: საიდენტიფიკაციო კოდი
A38: საკონტაქტო პირი
A39: ელ-ფოსტა / ტელეფონი

Sheet მოხმარება
A1: მოხმარებული ელექტროენერგია თვეების მიხედვით, კვტ·სთ
A2: წყარო: Analysis-კომუნალურები-რეპორტი.xlsx (ფურცელი „ელ.ენერგია“) · იანვარი 2025 – აგვისტო 2026, ინვოისების მიხედვით · ცარიელი = მონაცემი არ არის
A4: კოდი | B4: ობიექტი | C4: ტენდერში | D4: იან 25 | E4: თებ 25 | F4: მარ 25 | G4: აპრ 25 | H4: მაი 25 | I4: ივნ 25 | J4: ივლ 25 | K4: აგვ 25 | L4: სექ 25 | M4: ოქტ 25 | N4: ნოე 25 | O4: დეკ 25 | P4: იან 26 | Q4: თებ 26 | R4: მარ 26 | S4: აპრ 26 | T4: მაი 26 | U4: ივნ 26 | V4: ივლ 26 | W4: აგვ 26 | X4: სულ FY 2025 | Y4: ბოლო 12 თვე (სექ 25–აგვ 26) | Z4: თვეები მონაცემით (ბოლო 12) | AA4: წლიური მოცულობა (შეფასება) | AB4: მაქს. თვე (ბოლო 12)
A5: SHH | B5: =ობიექტები!C5 -> სს „საქართველოს კლინიკები“ - შუახევის კლინიკა | C5: =ობიექტები!L5 -> კი | D5: 11562 | E5: 11081.6 | F5: 10154.1 | G5: 8719.8 | H5: 8793.8 | I5: 8704.8 | J5: 12053.9 | K5: 13525.3 | L5: 10838.1 | M5: 10113 | N5: 10777.6 | O5: 10927.2 | P5: 13615 | Q5: 11382.6 | R5: 11707.2 | S5: 10021.9 | T5: 8892.2 | U5: 8590 | V5: 9955.5 | W5: 12624.3 | X5: =SUM(D5:O5) -> 127251.2 | Y5: =SUM(L5:W5) -> 129444.6 | Z5: =COUNTIF(L5:W5,">0") -> 12 | AA5: =IF(Z5=0,0,IF(Z5<12,Y5/Z5*12,Y5)) -> 129444.6 | AB5: =MAX(L5:W5) -> 13615
A6: QDH | B6: =ობიექტები!C6 -> სს „საქართველოს კლინიკები“ - ქედის კლინიკა | C6: =ობიექტები!L6 -> კი | D6: 15040 | E6: 12760 | F6: 14760 | G6: 10241 | H6: 8160 | I6: 6160 | J6: 7840 | K6: 7841 | L6: 5920 | M6: 8480 | N6: 12160 | O6: 14800 | P6: 16640 | Q6: 12240 | R6: 12800 | S6: 11200 | T6: 8640 | U6: 6960 | V6: 8000 | W6: 7440 | X6: =SUM(D6:O6) -> 124162 | Y6: =SUM(L6:W6) -> 125280 | Z6: =COUNTIF(L6:W6,">0") -> 12 | AA6: =IF(Z6=0,0,IF(Z6<12,Y6/Z6*12,Y6)) -> 125280 | AB6: =MAX(L6:W6) -> 16640
A7: XLH | B7: =ობიექტები!C7 -> სს „საქართველოს კლინიკები“ - ხულოს კლინიკა | C7: =ობიექტები!L7 -> კი | D7: 15804 | E7: 11190 | F7: 15968 | G7: 14466 | H7: 14838 | I7: 7880 | J7: 9390 | K7: 8292 | L7: 8244 | M7: 9422 | N7: 11234 | O7: 11659.2 | P7: 15138.8 | Q7: 11458 | R7: 12294 | S7: 12158 | T7: 11812 | U7: 8952 | V7: 7164 | W7: 7414 | X7: =SUM(D7:O7) -> 138387.2 | Y7: =SUM(L7:W7) -> 126950 | Z7: =COUNTIF(L7:W7,">0") -> 12 | AA7: =IF(Z7=0,0,IF(Z7<12,Y7/Z7*12,Y7)) -> 126950 | AB7: =MAX(L7:W7) -> 15138.8
A8: TYH | B8: =ობიექტები!C8 -> სს „საქართველოს კლინიკები“ - ტყიბულის კლინიკა | C8: =ობიექტები!L8 -> კი | D8: 9058.9 | E8: 9820.8 | F8: 8036.8 | G8: 6908.1 | H8: 6795.9 | I8: 5245.3 | J8: 8962.3 | K8: 8086.6 | L8: 6215.2 | M8: 8577.7 | N8: 8956.1 | O8: 8969.4 | P8: 10846.2 | Q8: 7915.9 | R8: 9430.2 | S8: 7772.8 | T8: 8063.3 | U8: 5641.8 | V8: 5747.8 | W8: 7114.4 | X8: =SUM(D8:O8) -> 95633.1 | Y8: =SUM(L8:W8) -> 95250.8 | Z8: =COUNTIF(L8:W8,">0") -> 12 | AA8: =IF(Z8=0,0,IF(Z8<12,Y8/Z8*12,Y8)) -> 95250.8 | AB8: =MAX(L8:W8) -> 10846.2
A9: ABH | B9: =ობიექტები!C9 -> სს „საქართველოს კლინიკები“ - აბაშის კლინიკა | C9: =ობიექტები!L9 -> კი | D9: 11600 | E9: 10912 | F9: 7768 | G9: 7904 | H9: 5652 | I9: 4136 | J9: 6732 | K9: 7472 | L9: 5316 | M9: 4912 | N9: 7036 | O9: 7280 | P9: 6600 | Q9: 6928 | R9: 6564 | S9: 8692 | T9: 5944 | U9: 4104 | V9: 5773.5 | W9: 6559.8 | X9: =SUM(D9:O9) -> 86720 | Y9: =SUM(L9:W9) -> 75709.3 | Z9: =COUNTIF(L9:W9,">0") -> 12 | AA9: =IF(Z9=0,0,IF(Z9<12,Y9/Z9*12,Y9)) -> 75709.3 | AB9: =MAX(L9:W9) -> 8692
A10: TRH | B10: =ობიექტები!C10 -> სს „საქართველოს კლინიკები“ - თერჯოლის კლინიკა | C10: =ობიექტები!L10 -> კი | D10: 5610.8 | E10: 3236 | F10: 2660 | G10: 4189.9 | H10: 3932 | I10: 3600 | J10: 6972 | K10: 7196 | L10: 4460 | M10: 3992 | N10: 4120 | O10: 4264 | P10: 4780 | Q10: 3984 | R10: 4220 | S10: 3638.4 | T10: 3141.6 | U10: 3684 | V10: 5464 | W10: 6060 | X10: =SUM(D10:O10) -> 54232.7 | Y10: =SUM(L10:W10) -> 51808 | Z10: =COUNTIF(L10:W10,">0") -> 12 | AA10: =IF(Z10=0,0,IF(Z10<12,Y10/Z10*12,Y10)) -> 51808 | AB10: =MAX(L10:W10) -> 6060
A11: AXH | B11: =ობიექტები!C11 -> სს „საქართველოს კლინიკები“ - ახმეტის კლინიკა | C11: =ობიექტები!L11 -> კი | D11: 17550 | E11: 15585 | F11: 13935 | G11: 12060 | H11: 9675 | I11: 10605 | J11: 14100 | K11: 15585 | L11: 10365 | M11: 10950 | N11: 13140 | O11: 16965 | P11: 17415 | Q11: 15075 | R11: 16605 | S11: 13590 | T11: 11130 | U11: 9285 | V11: 12210 | W11: 14880 | X11: =SUM(D11:O11) -> 160515 | Y11: =SUM(L11:W11) -> 161610 | Z11: =COUNTIF(L11:W11,">0") -> 12 | AA11: =IF(Z11=0,0,IF(Z11<12,Y11/Z11*12,Y11)) -> 161610 | AB11: =MAX(L11:W11) -> 17415
A12: YVH | B12: =ობიექტები!C12 -> სს „საქართველოს კლინიკები“ - ყვარლის კლინიკა | C12: =ობიექტები!L12 -> კი | D12: 11845.4 | E12: 11815.6 | F12: 12347.5 | G12: 11124.8 | H12: 8865.8 | I12: 11359.2 | J12: 18337.2 | K12: 24292.4 | L12: 12862.8 | M12: 11823.9 | N12: 11469 | O12: 15871.2 | P12: 14571.4 | Q12: 11602.2 | R12: 12453.2 | S12: 12563.5 | T12: 10309.4 | U12: 13051.7 | V12: 23504.3 | W12: 21232.8 | X12: =SUM(D12:O12) -> 162014.8 | Y12: =SUM(L12:W12) -> 171315.4 | Z12: =COUNTIF(L12:W12,">0") -> 12 | AA12: =IF(Z12=0,0,IF(Z12<12,Y12/Z12*12,Y12)) -> 171315.4 | AB12: =MAX(L12:W12) -> 23504.3
A13: XBH | B13: =ობიექტები!C13 -> სს „საქართველოს კლინიკები“ - ხობის კლინიკა | C13: =ობიექტები!L13 -> კი | D13: 8904 | E13: 10235 | F13: 5919 | G13: 5481 | H13: 4016 | I13: 3740 | J13: 9500 | K13: 9061 | L13: 5309 | M13: 5759 | N13: 4142 | O13: 7957 | P13: 9526 | Q13: 6266 | R13: 5205 | S13: 3752 | T13: 3448 | U13: 6076 | V13: 6096 | W13: 4210 | X13: =SUM(D13:O13) -> 80023 | Y13: =SUM(L13:W13) -> 67746 | Z13: =COUNTIF(L13:W13,">0") -> 12 | AA13: =IF(Z13=0,0,IF(Z13<12,Y13/Z13*12,Y13)) -> 67746 | AB13: =MAX(L13:W13) -> 9526
A14: NCH | B14: =ობიექტები!C14 -> სს „საქართველოს კლინიკები“ - ნინოწმინდის კლინიკა | C14: =ობიექტები!L14 -> კი | D14: 16716 | E14: 13361 | F14: 9979 | G14: 9362 | H14: 7887 | I14: 6900 | J14: 5482 | K14: 3637 | L14: 7017 | M14: 10173 | N14: 7886 | O14: 10625 | P14: 12709 | Q14: 10326 | R14: 11976 | S14: 9446 | T14: 8950 | U14: 7863 | V14: 5631 | W14: 4914 | X14: =SUM(D14:O14) -> 109025 | Y14: =SUM(L14:W14) -> 107516 | Z14: =COUNTIF(L14:W14,">0") -> 12 | AA14: =IF(Z14=0,0,IF(Z14<12,Y14/Z14*12,Y14)) -> 107516 | AB14: =MAX(L14:W14) -> 12709
A15: ZURH | B15: =ობიექტები!C15 -> სს "საქართველოს კლინიკები“ - ზუგდიდის რეფერალური ჰოსპიტალი | C15: =ობიექტები!L15 -> კი | D15: 122387 | E15: 88537 | F15: 77413 | G15: 88855 | H15: 99586 | I15: 95452 | J15: 126009 | K15: 128510 | L15: 104261 | M15: 108903 | N15: 109794.7 | O15: 128188.2 | P15: 136210.9 | Q15: 111281.3 | R15: 122710.9 | S15: 111008.8 | T15: 107162.6 | U15: 99484 | V15: 130303 | W15: 113271 | X15: =SUM(D15:O15) -> 1277895.9 | Y15: =SUM(L15:W15) -> 1382579.4 | Z15: =COUNTIF(L15:W15,">0") -> 12 | AA15: =IF(Z15=0,0,IF(Z15<12,Y15/Z15*12,Y15)) -> 1382579.4 | AB15: =MAX(L15:W15) -> 136210.9
A16: KRH | B16: =ობიექტები!C16 -> სს "საქართველოს კლინიკები" - ქუთაისის რეფერალური ჰოსპიტალი | C16: =ობიექტები!L16 -> კი | D16: 84915 | E16: 81750 | F16: 78045 | G16: 95790 | H16: 105990 | I16: 132900 | J16: 197115 | K16: 207852.2 | L16: 164490 | M16: 130005 | N16: 112695 | O16: 140794.5 | P16: 132912 | Q16: 118536 | R16: 130446 | S16: 117400.5 | T16: 132154.5 | U16: 160431 | V16: 199980 | W16: 205537.5 | X16: =SUM(D16:O16) -> 1532341.7 | Y16: =SUM(L16:W16) -> 1745382 | Z16: =COUNTIF(L16:W16,">0") -> 12 | AA16: =IF(Z16=0,0,IF(Z16<12,Y16/Z16*12,Y16)) -> 1745382 | AB16: =MAX(L16:W16) -> 205537.5
... A30: QRH | B30: =ობიექტები!C30 -> სს "საქართველოს კლინიკები" - ქარელის კლინიკა | C30: =ობიექტები!L30 -> კი | D30: 10629.2 | E30: 11578.2 | F30: 7094.6 | G30: 8273.3 | H30: 3076.4 | I30: 1100.5 | J30: 5752.3 | K30: 7723.2 | L30: 6324.3 | M30: 8029 | N30: 11395.1 | O30: 16914.2 | P30: 19503.6 | Q30: 13862.1 | R30: 13903.3 | S30: 8975.8 | T30: 7658.4 | U30: 4526.4 | V30: 7535.3 | W30: 10705.6 | X30: =SUM(D30:O30) -> 97890.3 | Y30: =SUM(L30:W30) -> 129333.1 | Z30: =COUNTIF(L30:W30,">0") -> 12 | AA30: =IF(Z30=0,0,IF(Z30<12,Y30/Z30*12,Y30)) -> 129333.1 | AB30: =MAX(L30:W30) -> 19503.6
A31: GRH | B31: =ობიექტები!C31 -> სს "საქართველოს კლინიკები" - გორის რეფერალური ჰოსპიტალი | C31: =ობიექტები!L31 -> კი | P31: 67729.1 | Q31: 49254.6 | R31: 46573.3 | S31: 37884.1 | T31: 34578.7 | U31: 30348.3 | V31: 36604.4 | W31: 40858.7 | X31: =SUM(D31:O31) -> 0 | Y31: =SUM(L31:W31) -> 343831.2 | Z31: =COUNTIF(L31:W31,">0") -> 8 | AA31: =IF(Z31=0,0,IF(Z31<12,Y31/Z31*12,Y31)) -> 515746.8 | AB31: =MAX(L31:W31) -> 67729.1
A32: XRGH | B32: =ობიექტები!C32 -> სს "საქართველოს კლინიკები" - ხაშურის რეფერალური ჰოსპიტალი/ხაშურის ცენტრალური კლინიკური საავადმყოფო | C32: =ობიექტები!L32 -> კი | P32: 22883.8 | Q32: 18743.3 | R32: 19560 | S32: 14760 | T32: 13080 | U32: 12000 | V32: 19320 | W32: 27120 | X32: =SUM(D32:O32) -> 0 | Y32: =SUM(L32:W32) -> 147467.1 | Z32: =COUNTIF(L32:W32,">0") -> 8 | AA32: =IF(Z32=0,0,IF(Z32<12,Y32/Z32*12,Y32)) -> 221200.65 | AB32: =MAX(L32:W32) -> 27120
A33: სულ (ტენდერში = „კი“) | D33: =SUMIF($C$5:$C$32,"კი",D5:D32) -> 623858.7 | E33: =SUMIF($C$5:$C$32,"კი",E5:E32) -> 554339.6 | F33: =SUMIF($C$5:$C$32,"კი",F5:F32) -> 516130.5 | G33: =SUMIF($C$5:$C$32,"კი",G5:G32) -> 509988.7 | H33: =SUMIF($C$5:$C$32,"კი",H5:H32) -> 493363.5 | I33: =SUMIF($C$5:$C$32,"კი",I5:I32) -> 522881.6 | J33: =SUMIF($C$5:$C$32,"კი",J5:J32) -> 748859.9 | K33: =SUMIF($C$5:$C$32,"კი",K5:K32) -> 786551.4 | ... Y33: =SUMIF($C$5:$C$32,"კი",Y5:Y32) -> 8664752.4 | AA33: =SUMIF($C$5:$C$32,"კი",AA5:AA32) -> 8910401.6 | AB33: =SUMIF($C$5:$C$32,"კი",AB5:AB32) -> 1044800.5

Sheet შეჯამება
A1: შეჯამება მომწოდებლებისთვის — მოსალოდნელი წლიური მოცულობა
A2: წლიური მოცულობა = ბოლო 12 თვე (სექ 2025 – აგვ 2026), ან შეფასება, თუ მონაცემი არასრულია · ზამთარი = ოქტ–მარ, ზაფხული = აპრ–სექ · ჯამებში შედის მხოლოდ „ტენდერში = კი“
A4: კოდი | B4: ობიექტი | C4: ტენდერში | D4: ზონა | E4: ძაბვა (კვ) | F4: სიმძლავრე (კვტ) | G4: წლიური მოცულობა, კვტ·სთ | H4: წილი ჯამში | I4: ზამთარი (ოქტ–მარ), კვტ·სთ | J4: ზაფხული (აპრ–სექ), კვტ·სთ | K4: მაქს. თვიური, კვტ·სთ | L4: FY 2025, კვტ·სთ
A5: =ობიექტები!B5 -> SHH | B5: =ობიექტები!C5 -> სს „საქართველოს კლინიკები“ - შუახევის კლინიკა | C5: =ობიექტები!L5 -> კი | D5: =ობიექტები!K5 -> რეგიონები (ეპ ჯორჯია) | E5: =IF(ობიექტები!I5="","დასაზ.",ობიექტები!I5) -> 10 | F5: =IF(ობიექტები!J5="","დასაზ.",ობიექტები!J5) -> დასაზ. | G5: =მოხმარება!AA5 -> 129444.6 | H5: =IF(C5="კი",G5/$G$33,0) -> 0.014527359 | I5: =მოხმარება!M5+მოხმარება!N5+მოხმარება!O5+მოხმარება!P5+მოხმარება!Q5+მოხმარება!R5 -> 68522.6 | J5: =მოხმარება!S5+მოხმარება!T5+მოხმარება!U5+მოხმარება!V5+მოხმარება!W5+მოხმარება!L5 -> 60922 | K5: =მოხმარება!AB5 -> 13615 | L5: =მოხმარება!X5 -> 127251.2
A6: =ობიექტები!B6 -> QDH | B6: =ობიექტები!C6 -> სს „საქართველოს კლინიკები“ - ქედის კლინიკა | C6: =ობიექტები!L6 -> კი | D6: =ობიექტები!K6 -> რეგიონები (ეპ ჯორჯია) | E6: =IF(ობიექტები!I6="","დასაზ.",ობიექტები!I6) -> 10 | F6: =IF(ობიექტები!J6="","დასაზ.",ობიექტები!J6) -> 350 | G6: =მოხმარება!AA6 -> 125280 | H6: =IF(C6="კი",G6/$G$33,0) -> 0.014059972 | I6: =მოხმარება!M6+მოხმარება!N6+მოხმარება!O6+მოხმარება!P6+მოხმარება!Q6+მოხმარება!R6 -> 77120 | J6: =მოხმარება!S6+მოხმარება!T6+მოხმარება!U6+მოხმარება!V6+მოხმარება!W6+მოხმარება!L6 -> 48160 | K6: =მოხმარება!AB6 -> 16640 | L6: =მოხმარება!X6 -> 124162
A7: =ობიექტები!B7 -> XLH | B7: =ობიექტები!C7 -> სს „საქართველოს კლინიკები“ - ხულოს კლინიკა | C7: =ობიექტები!L7 -> კი | D7: =ობიექტები!K7 -> რეგიონები (ეპ ჯორჯია) | E7: =IF(ობიექტები!I7="","დასაზ.",ობიექტები!I7) -> 10 | F7: =IF(ობიექტები!J7="","დასაზ.",ობიექტები!J7) -> 200 | G7: =მოხმარება!AA7 -> 126950 | H7: =IF(C7="კი",G7/$G$33,0) -> 0.014247394 | I7: =მოხმარება!M7+მოხმარება!N7+მოხმარება!O7+მოხმარება!P7+მოხმარება!Q7+მოხმარება!R7 -> 71206 | J7: =მოხმარება!S7+მოხმარება!T7+მოხმარება!U7+მოხმარება!V7+მოხმარება!W7+მოხმარება!L7 -> 55744 | K7: =მოხმარება!AB7 -> 15138.8 | L7: =მოხმარება!X7 -> 138387.2
A8: =ობიექტები!B8 -> TYH | B8: =ობიექტები!C8 -> სს „საქართველოს კლინიკები“ - ტყიბულის კლინიკა | C8: =ობიექტები!L8 -> კი | D8: =ობიექტები!K8 -> რეგიონები (ეპ ჯორჯია) | E8: =IF(ობიექტები!I8="","დასაზ.",ობიექტები!I8) -> 6 | F8: =IF(ობიექტები!J8="","დასაზ.",ობიექტები!J8) -> 200 | G8: =მოხმარება!AA8 -> 95250.8 | H8: =IF(C8="კი",G8/$G$33,0) -> 0.010689844 | I8: =მოხმარება!M8+მოხმარება!N8+მოხმარება!O8+მოხმარება!P8+მოხმარება!Q8+მოხმარება!R8 -> 54695.5 | J8: =მოხმარება!S8+მოხმარება!T8+მოხმარება!U8+მოხმარება!V8+მოხმარება!W8+მოხმარება!L8 -> 40555.3 | K8: =მოხმარება!AB8 -> 10846.2 | L8: =მოხმარება!X8 -> 95633.1
A9: =ობიექტები!B9 -> ABH | B9: =ობიექტები!C9 -> სს „საქართველოს კლინიკები“ - აბაშის კლინიკა | C9: =ობიექტები!L9 -> კი | D9: =ობიექტები!K9 -> რეგიონები (ეპ ჯორჯია) | E9: =IF(ობიექტები!I9="","დასაზ.",ობიექტები!I9) -> 10 | F9: =IF(ობიექტები!J9="","დასაზ.",ობიექტები!J9) -> დასაზ. | G9: =მოხმარება!AA9 -> 75709.3 | H9: =IF(C9="კი",G9/$G$33,0) -> 0.0084967327 | I9: =მოხმარება!M9+მოხმარება!N9+მოხმარება!O9+მოხმარება!P9+მოხმარება!Q9+მოხმარება!R9 -> 39320 | J9: =მოხმარება!S9+მოხმარება!T9+მოხმარება!U9+მოხმარება!V9+მოხმარება!W9+მოხმარება!L9 -> 36389.3 | K9: =მოხმარება!AB9 -> 8692 | L9: =მოხმარება!X9 -> 86720
A10: =ობიექტები!B10 -> TRH | B10: =ობიექტები!C10 -> სს „საქართველოს კლინიკები“ - თერჯოლის კლინიკა | C10: =ობიექტები!L10 -> კი | D10: =ობიექტები!K10 -> რეგიონები (ეპ ჯორჯია) | E10: =IF(ობიექტები!I10="","დასაზ.",ობიექტები!I10) -> 10 | F10: =IF(ობიექტები!J10="","დასაზ.",ობიექტები!J10) -> 200 | G10: =მოხმარება!AA10 -> 51808 | H10: =IF(C10="კი",G10/$G$33,0) -> 0.0058143283 | I10: =მოხმარება!M10+მოხმარება!N10+მოხმარება!O10+მოხმარება!P10+მოხმარება!Q10+მოხმარება!R10 -> 25360 | J10: =მოხმარება!S10+მოხმარება!T10+მოხმარება!U10+მოხმარება!V10+მოხმარება!W10+მოხმარება!L10 -> 26448 | K10: =მოხმარება!AB10 -> 6060 | L10: =მოხმარება!X10 -> 54232.7
A11: =ობიექტები!B11 -> AXH | B11: =ობიექტები!C11 -> სს „საქართველოს კლინიკები“ - ახმეტის კლინიკა | C11: =ობიექტები!L11 -> კი | D11: =ობიექტები!K11 -> რეგიონები (ეპ ჯორჯია) | E11: =IF(ობიექტები!I11="","დასაზ.",ობიექტები!I11) -> 10 | F11: =IF(ობიექტები!J11="","დასაზ.",ობიექტები!J11) -> 500 | G11: =მოხმარება!AA11 -> 161610 | H11: =IF(C11="კი",G11/$G$33,0) -> 0.01813723 | I11: =მოხმარება!M11+მოხმარება!N11+მოხმარება!O11+მოხმარება!P11+მოხმარება!Q11+მოხმარება!R11 -> 90150 | J11: =მოხმარება!S11+მოხმარება!T11+მოხმარება!U11+მოხმარება!V11+მოხმარება!W11+მოხმარება!L11 -> 71460 | K11: =მოხმარება!AB11 -> 17415 | L11: =მოხმარება!X11 -> 160515
A12: =ობიექტები!B12 -> YVH | B12: =ობიექტები!C12 -> სს „საქართველოს კლინიკები“ - ყვარლის კლინიკა | C12: =ობიექტები!L12 -> კი | D12: =ობიექტები!K12 -> რეგიონები (ეპ ჯორჯია) | E12: =IF(ობიექტები!I12="","დასაზ.",ობიექტები!I12) -> 10 | F12: =IF(ობიექტები!J12="","დასაზ.",ობიექტები!J12) -> 500 | G12: =მოხმარება!AA12 -> 171315.4 | H12: =IF(C12="კი",G12/$G$33,0) -> 0.019226451 | I12: =მოხმარება!M12+მოხმარება!N12+მოხმარება!O12+მოხმარება!P12+მოხმარება!Q12+მოხმარება!R12 -> 77790.9 | J12: =მოხმარება!S12+მოხმარება!T12+მოხმარება!U12+მოხმარება!V12+მოხმარება!W12+მოხმარება!L12 -> 93524.5 | K12: =მოხმარება!AB12 -> 23504.3 | L12: =მოხმარება!X12 -> 162014.8
A13: =ობიექტები!B13 -> XBH | B13: =ობიექტები!C13 -> სს „საქართველოს კლინიკები“ - ხობის კლინიკა | C13: =ობიექტები!L13 -> კი | D13: =ობიექტები!K13 -> რეგიონები (ეპ ჯორჯია) | E13: =IF(ობიექტები!I13="","დასაზ.",ობიექტები!I13) -> 10 | F13: =IF(ობიექტები!J13="","დასაზ.",ობიექტები!J13) -> 125 | G13: =მოხმარება!AA13 -> 67746 | H13: =IF(C13="კი",G13/$G$33,0) -> 0.0076030244 | I13: =მოხმარება!M13+მოხმარება!N13+მოხმარება!O13+მოხმარება!P13+მოხმარება!Q13+მოხმარება!R13 -> 38855 | J13: =მოხმარება!S13+მოხმარება!T13+მოხმარება!U13+მოხმარება!V13+მოხმარება!W13+მოხმარება!L13 -> 28891 | K13: =მოხმარება!AB13 -> 9526 | L13: =მოხმარება!X13 -> 80023
A14: =ობიექტები!B14 -> NCH | B14: =ობიექტები!C14 -> სს „საქართველოს კლინიკები“ - ნინოწმინდის კლინიკა | C14: =ობიექტები!L14 -> კი | D14: =ობიექტები!K14 -> რეგიონები (ეპ ჯორჯია) | E14: =IF(ობიექტები!I14="","დასაზ.",ობიექტები!I14) -> 10 | F14: =IF(ობიექტები!J14="","დასაზ.",ობიექტები!J14) -> 80 | G14: =მოხმარება!AA14 -> 107516 | H14: =IF(C14="კი",G14/$G$33,0) -> 0.012066347 | I14: =მოხმარება!M14+მოხმარება!N14+მოხმარება!O14+მოხმარება!P14+მოხმარება!Q14+მოხმარება!R14 -> 63695 | J14: =მოხმარება!S14+მოხმარება!T14+მოხმარება!U14+მოხმარება!V14+მოხმარება!W14+მოხმარება!L14 -> 43821 | K14: =მოხმარება!AB14 -> 12709 | L14: =მოხმარება!X14 -> 109025
A15: =ობიექტები!B15 -> ZURH | B15: =ობიექტები!C15 -> სს "საქართველოს კლინიკები“ - ზუგდიდის რეფერალური ჰოსპიტალი | C15: =ობიექტები!L15 -> კი | D15: =ობიექტები!K15 -> რეგიონები (ეპ ჯორჯია) | E15: =IF(ობიექტები!I15="","დასაზ.",ობიექტები!I15) -> 6 | F15: =IF(ობიექტები!J15="","დასაზ.",ობიექტები!J15) -> 500 | G15: =მოხმარება!AA15 -> 1382579.4 | H15: =IF(C15="კი",G15/$G$33,0) -> 0.15516466 | I15: =მოხმარება!M15+მოხმარება!N15+მოხმარება!O15+მოხმარება!P15+მოხმარება!Q15+მოხმარება!R15 -> 717089 | J15: =მოხმარება!S15+მოხმარება!T15+მოხმარება!U15+მოხმარება!V15+მოხმარება!W15+მოხმარება!L15 -> 665490.4 | K15: =მოხმარება!AB15 -> 136210.9 | L15: =მოხმარება!X15 -> 1277895.9
A16: =ობიექტები!B16 -> KRH | B16: =ობიექტები!C16 -> სს "საქართველოს კლინიკები" - ქუთაისის რეფერალური ჰოსპიტალი | C16: =ობიექტები!L16 -> კი | D16: =ობიექტები!K16 -> რეგიონები (ეპ ჯორჯია) | E16: =IF(ობიექტები!I16="","დასაზ.",ობიექტები!I16) -> 10 | F16: =IF(ობიექტები!J16="","დასაზ.",ობიექტები!J16) -> 385 | G16: =მოხმარება!AA16 -> 1745382 | H16: =IF(C16="კი",G16/$G$33,0) -> 0.19588141 | I16: =მოხმარება!M16+მოხმარება!N16+მოხმარება!O16+მოხმარება!P16+მოხმარება!Q16+მოხმარება!R16 -> 765388.5 | J16: =მოხმარება!S16+მოხმარება!T16+მოხმარება!U16+მოხმარება!V16+მოხმარება!W16+მოხმარება!L16 -> 979993.5 | K16: =მოხმარება!AB16 -> 205537.5 | L16: =მოხმარება!X16 -> 1532341.7
... A32: =ობიექტები!B32 -> XRGH | B32: =ობიექტები!C32 -> სს "საქართველოს კლინიკები" - ხაშურის რეფერალური ჰოსპიტალი/ხაშურის ცენტრალური კლინიკური საავადმყოფო | C32: =ობიექტები!L32 -> კი | D32: =ობიექტები!K32 -> რეგიონები (ეპ ჯორჯია) | E32: =IF(ობიექტები!I32="","დასაზ.",ობიექტები!I32) -> 10 | F32: =IF(ობიექტები!J32="","დასაზ.",ობიექტები!J32) -> დასაზ. | G32: =მოხმარება!AA32 -> 221200.65 | H32: =IF(C32="კი",G32/$G$33,0) -> 0.024824992 | I32: =მოხმარება!M32+მოხმარება!N32+მოხმარება!O32+მოხმარება!P32+მოხმარება!Q32+მოხმარება!R32 -> 61187.1 | J32: =მოხმარება!S32+მოხმარება!T32+მოხმარება!U32+მოხმარება!V32+მოხმარება!W32+მოხმარება!L32 -> 86280 | K32: =მოხმარება!AB32 -> 27120 | L32: =მოხმარება!X32 -> 0
A33: სულ (ტენდერში = „კი“) | D33: =COUNTIF(C5:C32,"კი")&" ობიექტი" -> 28 ობიექტი | G33: =SUMIF($C$5:$C$32,"კი",G5:G32) -> 8910401.6 | H33: =SUM(H5:H32) -> 1 | I33: =SUMIF($C$5:$C$32,"კი",I5:I32) -> 4298375.2 | J33: =SUMIF($C$5:$C$32,"კი",J5:J32) -> 4366377.2 | L33: =SUMIF($C$5:$C$32,"კი",L5:L32) -> 7243051.6
A35: მთავარი მაჩვენებლები
A36: მოსალოდნელი წლიური მოცულობა, მგვტ·სთ | G36: =G33/1000 -> 8910.4016
A37: საშუალო თვიური მოცულობა, მგვტ·სთ | G37: =G33/12/1000 -> 742.53346
A38: ზამთრის წილი (ოქტ–მარ) | G38: =I33/(I33+J33) -> 0.49607594
A39: მ.შ. თბილისი, მგვტ·სთ | G39: =SUMIFS(G5:G32,C5:C32,"კი",D5:D32,"თბილისი")/1000 -> 852.3614
A40: მ.შ. რეგიონები, მგვტ·სთ | G40: =SUMIFS(G5:G32,C5:C32,"კი",D5:D32,"რეგიონები (ეპ ჯორჯია)")/1000 -> 8058.0402
A42: სატენდერო პირობები (შესათანხმებელი)
A43: მიწოდების დაწყება
A44: ხელშეკრულების ვადა
A45: ფასის ტიპი (ფიქს./სეზონური)
A46: ლოტები (ერთიანი / ზონების მიხედვით)
A47: მოცულობის დასაშვები გადახრა | G47: ±15%
A48: ფასის ფორმატი | G48: ₾/კვტ·სთ, დღგ-ს გარეშე და დღგ-ს ჩათვლით; ცალკე — ენერგია და ქსელის/სხვა მოსაკრებლები
