Workbook

Sheet კრებსითი
C2: ღირებულება ლარში | D2: ღირებულება დოლარში | F2: 2.61
B3: გარე ტერიტორია | C3: ='გარე ტერიტორია'!M95 -> 0 | D3: =C3/F2 -> 0
B4: ელექტროობა | C4: =ელექტროობა!M64 -> 0 | D4: =C4/F2 -> 0
B5: მწვანე ნერგები | C5: ='გამწვანება-დენდროლოგია'!N26 -> 0 | D5: =C5/F2 -> 0
B6: ინვენტარი | C6: =ინვენტარი!M26 -> 0 | D6: =C6/F2 -> 0
B7: შლაგბაუმი, პულტი, დაშვების სისტემა | C7: ='შლაგბ.& დაშვება'!F18 -> 0 | D7: =C7/F2 -> 0
B8: ჭები | C8: ='გარე კომუნიკაცია'!J30 -> 0 | D8: =C8/F2 -> 0
B9: ხარვეზები | C9: ='დამატებითი სამუშაო'!M56 -> 0 | D9: =C9/F2 -> 0
B10: ჯამი | C10: =SUM(C3:C9) -> 0 | D10: =SUM(D3:D9) -> 0

Sheet გარე ტერიტორია
B2: # | C2: სამუშაოს დასახელება | D2: განზ | E2: ნორმ. ერთეული | F2: რაოდ | G2: მასალა | I2: ხელფასი | K2: მანქანა- მექანიზმები | M2: სულ
G3: ერთ. ფასი | H3: ჯამი | I3: ერთ. ფასი | J3: ჯამი | K3: ერთ. ფასი | L3: ჯამი
B4: 1 | C4: 2 | D4: 3 | E4: 4 | F4: 5 | G4: 6 | H4: 7 | I4: 8 | J4: 9 | K4: 10 | L4: 11 | M4: 12
B5: 1 | C5: გრუნტის დამუშავება ექსკავატორით და გატანა | D5: კუბ.მ | F5: 1017
C6: მანქანა-მექანიზმები (ექსკავატორი და თვითმცლელი) | D6: კუბ.მ | E6: 1 | F6: =F5 -> 1017 | L6: =F6*K6 -> 0 | M6: =H6+J6+L6 -> 0
B7: =B5+1 -> 2 | C7: ნარჩენი ბეტონის დამუშავება ტრანშეაში ექსკავატორით და სანგრევი ჩაქუჩებით, ავტოთვითმცლელზე დატვირთვა და გატანა | D7: კუბ.მ | F7: 55
C8: მანქანა-მექანიზმები (ექსკავატორი და თვითმცლელი) | D8: კუბ.მ | E8: 1.4 | F8: =F7*E8 -> 77 | L8: =F8*K8 -> 0 | M8: =H8+J8+L8 -> 0
B9: =B7+1 -> 3 | C9: საფუძვლის მოწყობა ქვიშა-ხრეშოვანი ნარევით H=20 მმ | D9: მ3 | F9: =(F23+F71)*0.2+107 -> 1037.76
C10: მანქანა-მექანიზმები (ექსკავატორი) | D10: კუბ.მ | E10: 1 | F10: =F9 -> 1037.76 | L10: =F10*K10 -> 0 | M10: =G10+I10+L10 -> 0
C11: სატკეპნი | D11: კუბ.მ | E11: 1 | F11: =F9 -> 1037.76 | L11: =F11*K11 -> 0 | M11: =G11+I11+L11 -> 0
C12: მასალა: | M12: =L12+J12+H12 -> 0
C13: ქვიშა-ხრეშოვანი ნარევი | D13: მ3 | E13: 1.22 | F13: =E13*F9 -> 1266.0672 | H13: =G13*F13 -> 0 | M13: =L13+J13+H13 -> 0
B14: =B9+1 -> 4 | C14: ღორღის ფენის მოწყობა სისქით 20სმ | D14: მ3 | F14: =F9 -> 1037.76
C15: შრომის დანახარჯები | D15: კაც/სთ | E15: 0.09 | F15: =E15*F14 -> 93.3984 | J15: =I15*F15 -> 0 | M15: =L15+J15+H15 -> 0
C16: JCB | D16: მანქ.დღე | F16: 10 | L16: =K16*F16 -> 0 | M16: =L16+J16+H16 -> 0
C17: სატკეპნი 8ტ | D17: მანქ.დღე | F17: 10 | L17: =K17*F17 -> 0 | M17: =L17+J17+H17 -> 0
C18: მასალა: | M18: =L18+J18+H18 -> 0
C19: ღორღი 0-40 მმ | D19: მ3 | E19: 1.26 | F19: =E19*F14 -> 1307.5776 | H19: =G19*F19 -> 0 | M19: =L19+J19+H19 -> 0
B20: =B14+1 -> 5 | C20: ბიტუმის მოსხმა მომასწორებელ ფენაზე | D20: ტ | F20: =F23*0.7/1000 -> 2.95036
C21: მასალა: | M21: =L21+J21+H21 -> 0
C22: ბიტუმის ემულსია | D22: ტ | E22: 1.03 | F22: =F20*E22 -> 3.0388708 | H22: =G22*F22 -> 0 | M22: =L22+J22+H22 -> 0
B23: =B20+1 -> 6 | C23: მსხვილმარცვლოვანი ა/ბეტონის საფარის მოწყობა სისქით 6სმ | D23: მ² | F23: =8501-4286.2 -> 4214.8
C24: შრომის დანახარჯები | D24: მ² | E24: 1 | F24: =E24*F23 -> 4214.8 | J24: =I24*F24 -> 0 | L24: =K24*F24 -> 0 | M24: =L24+J24+H24 -> 0
C25: მასალა: | M25: =L25+J25+H25 -> 0
C26: ასფალტობეტონის ნარევი | D26: ტ | E26: 0.1395 | F26: =E26*F23 -> 587.9646 | H26: =G26*F26 -> 0 | M26: =L26+J26+H26 -> 0
C27: სხვა მასალა | D27: ლარი | E27: 0.01476 | F27: =E27*F23 -> 62.210448 | H27: =G27*F27 -> 0 | M27: =L27+J27+H27 -> 0
B28: =B23+1 -> 7 | C28: ბიტუმის მოსხმა პირველ ფენაზე | D28: ტ | F28: =F23*0.3/1000 -> 1.26444
C29: მასალა: | M29: =L29+J29+H29 -> 0
C30: ბიტუმის ემულსია | D30: ტ | E30: 1.03 | F30: =F28*E30 -> 1.3023732 | H30: =G30*F30 -> 0 | M30: =L30+J30+H30 -> 0
B31: =B28+1 -> 8 | C31: წვრილმარცვლოვანი ა/ბეტონის საფარის მოწყობა სისქით 4სმ | D31: მ² | F31: =F23 -> 4214.8
C32: შრომის დანახარჯები | D32: მ² | E32: 1 | F32: =E32*F31 -> 4214.8 | J32: =I32*F32 -> 0 | L32: =K32*F32 -> 0 | M32: =L32+J32+H32 -> 0
C33: მასალა: | M33: =L33+J33+H33 -> 0
C34: ასფალტობეტონის ნარევი | D34: ტ | E34: 0.098 | F34: =E34*F31 -> 413.0504 | H34: =G34*F34 -> 0 | M34: =L34+J34+H34 -> 0
C35: სხვა მასალა | D35: ლარი | E35: 0.01476 | F35: =E35*F31 -> 62.210448 | H35: =G35*F35 -> 0 | M35: =L35+J35+H35 -> 0
B36: =B31+1 -> 9 | C36: ბეტონის ბორდიურების მოწყობა | D36: გრძ.მ | F36: 475
C37: შრომის დანახარჯები | D37: გრძ.მ | E37: 1 | F37: =E37*F36 -> 475 | J37: =I37*F37 -> 0 | M37: =L37+J37+H37 -> 0
C38: მასალა: | M38: =L38+J38+H38 -> 0
C39: ბეტონის ბორდიური 30x15 | D39: გრძ.მ | E39: 1.03 | F39: =E39*F36 -> 489.25 | H39: =G39*F39 -> 0 | M39: =L39+J39+H39 -> 0
C40: ცემენტის ხსნარი მ100 | D40: მ³ | E40: 0.059 | F40: =E40*F36 -> 28.025 | H40: =G40*F40 -> 0 | M40: =L40+J40+H40 -> 0
C41: სხვა მასალა | D41: ლარი | E41: 1 | F41: =E41*F36 -> 475 | H41: =G41*F41 -> 0 | M41: =L41+J41+H41 -> 0
...

Sheet ელექტროობა
B2: # | C2: სამუშაოს დასახელება | D2: განზომილება | E2: ნორმ. ერთეული | F2: რაოდენობა | G2: მასალა | I2: ხელფასი | K2: მანქანა- მექანიზმები | M2: სულ
G3: ერთ. ფასი | H3: ჯამი | I3: ერთ. ფასი | J3: ჯამი | K3: ერთ. ფასი | L3: ჯამი
B4: 1 | C4: 2 | D4: 3 | E4: 4 | F4: 5 | G4: 6 | H4: 7 | I4: 8 | J4: 9 | K4: 10 | L4: 11 | M4: 12
B5: 1 | C5: III კატეგორიის გრუნტის დამუშავება - დატვირთვა ექსკავატორით | D5: მ3 | F5: =(F13+F22)*0.3*0.3 -> 62.1
C6: ექსკავატორი | D6: მ3 | E6: 1 | F6: =E6*F5 -> 62.1 | L6: =K6*F6 -> 0 | M6: =L6+J6+H6 -> 0
B7: 2 | C7: ქვიშის ფენილის მოწყობა (შავი) | D7: მ3 | F7: =(F13+F22*0.3*0.05) -> 473.3
C8: შრომის დანახარჯები | D8: მ3 | E8: 1 | F8: =F7*E8 -> 473.3 | J8: =I8*F8 -> 0 | M8: =L8+J8+H8 -> 0
C9: პნევმატური სატკეპნი | D9: მანქ/სთ | E9: 0.13 | F9: =F7*E9 -> 61.529 | L9: =K9*F9 -> 0 | M9: =L9+J9+H9 -> 0
C10: მასალა: | M10: =L10+J10+H10 -> 0
C11: შავი ქვიშა | D11: მ3 | E11: 1.12 | F11: =F7*E11 -> 530.096 | H11: =G11*F11 -> 0 | M11: =L11+J11+H11 -> 0
C12: სხვა მასალა | D12: ლარი | E12: 1 | F12: =F7*E12 -> 473.3 | H12: =G12*F12 -> 0 | M12: =L12+J12+H12 -> 0
B13: 3 | C13: სპილენძის კაბელის ჩადება თხრილში | D13: გრძ.მ | F13: 470
C14: შრომის დანახარჯები | D14: გრძ.მ | E14: 1 | F14: =E14*F13 -> 470 | J14: =I14*F14 -> 0 | M14: =L14+J14+H14 -> 0
C15: მასალა: | M15: =L15+J15+H15 -> 0
C16: სპილენძის კაბელი N2XY 3*10 | D16: გრძ.მ | E16: 1.01 | F16: =E16*F13 -> 474.7 | H16: =G16*F16 -> 0 | M16: =L16+J16+H16 -> 0
C17: სასიგნალო ლენტი | D17: გრძ.მ | E17: 1.05 | F17: =E17*F13 -> 493.5 | H17: =G17*F17 -> 0 | M17: =L17+J17+H17 -> 0
B18: =B13+1 -> 4 | C18: კაბელის გატარება გოფრირებულ მილში Ø40 | D18: გრძ.მ | F18: =F13 -> 470
C19: შრომის დანახარჯები | D19: გრძ.მ | E19: 1 | F19: =E19*F18 -> 470 | J19: =I19*F19 -> 0 | M19: =L19+J19+H19 -> 0
C20: მასალა: | M20: =L20+J20+H20 -> 0
C21: გოფრირებული მილი Ø40 (წითელი) | D21: გრძ.მ | E21: 1.01 | F21: =E21*F18 -> 474.7 | H21: =G21*F21 -> 0 | M21: =L21+J21+H21 -> 0
B22: =B18+1 -> 5 | C22: სპილენძის კაბელის მოწყობა განათების ბოძებისთვის | D22: გრძ.მ | F22: =220 -> 220
C23: შრომის დანახარჯები | D23: გრძ.მ | E23: 1 | F23: =F22*E23 -> 220 | J23: =I23*F23 -> 0 | M23: =L23+J23+H23 -> 0
C24: მასალა: | M24: =L24+J24+H24 -> 0
C25: სპილენძის კაბელი N2XY 3x1.5მმ² | D25: გრძ.მ | E25: 1.01 | F25: =E25*F22 -> 222.2 | H25: =G25*F25 -> 0 | M25: =L25+J25+H25 -> 0
C26: გოფრირებული მილი Ø20 (წითელი) | D26: გრძ.მ | E26: 1.01 | F26: =E26*F23 -> 222.2 | H26: =G26*F26 -> 0 | M26: =L26+J26+H26 -> 0
B27: =B22+1 -> 6 | C27: გრუნტის მოჭრა სანათი ბოძებისთვის | D27: მ3 | F27: =16*0.6*0.7 -> 6.72
C28: მიწის სამუშაოები | D28: მ3 | E28: 1 | F28: =E28*F27 -> 6.72 | L28: =K28*F28 -> 0 | M28: =L28+J28+H28 -> 0
B29: =B27+1 -> 7 | C29: რკ/ბ საძირკვლის მოწყობა სანათი ბოძებისთვის | D29: მ3 | F29: =16*0.5*0.7 -> 5.6
C30: ბეტონის ბალიში | D30: მ3 | E30: 1 | F30: =F29*E30 -> 5.6 | H30: =G30*F30 -> 0 | J30: =I30*F30 -> 0 | M30: =L30+J30+H30 -> 0
B31: =B29+1 -> 8 | C31: გარე განათების ბოძების მოწყობა | D31: კომპ. | F31: 16
C32: შრომის დანახარჯები | D32: კომპ. | E32: 1 | F32: =E32*F31 -> 16 | J32: =I32*F32 -> 0 | M32: =L32+J32+H32 -> 0 | N32: ვიზუალი აუცილებლად უნდა იყოს ობიექტზე არსებული განათების იდენტური. ასევე, გთხოვთ, წარმოადგინოთ Data sheet
C33: მანქანა-მექანიზმები | D33: ლარი | E33: 1 | F33: =E33*F31 -> 16 | L33: =K33*F33 -> 0 | M33: =L33+J33+H33 -> 0
C34: მასალა: | M34: =L34+J34+H34 -> 0
C35: გარე განათების ბოძი (კომპლექტი) H=7.5მ | D35: კომპ. | E35: 1 | F35: =E35*F31 -> 16 | H35: =G35*F35 -> 0 | M35: =L35+J35+H35 -> 0
B36: =B31+1 -> 9 | C36: სანათების მოწყობა | D36: ცალი | F36: 23
C37: შრომის დანახარჯები | D37: ცალი | E37: 1 | F37: =E37*F36 -> 23 | J37: =I37*F37 -> 0 | M37: =L37+J37+H37 -> 0
C38: მასალა: | M38: =L38+J38+H38 -> 0
C39: გარე განათების სანათი LED ნათურით 150W | D39: ცალი | E39: 1 | F39: =E39*F36 -> 23 | H39: =G39*F39 -> 0 | M39: =L39+J39+H39 -> 0
C40: ავტომატების მოწყობა | D40: ცალი | F40: 31 | H40: =G40*F40 -> 0 | M40: =L40+J40+H40 -> 0
C41: სხვა მასალა | D41: ლარი | E41: 0.05 | F41: =F36*E41 -> 1.15 | H41: =G41*F41 -> 0 | M41: =L41+J41+H41 -> 0
...

Sheet გამწვანება-დენდროლოგია
B2: # | C2: სამუშაოს დასახელება | D2: განზ | E2: რაოდ | F2: სიმაღლე | G2: ღეროს გარშემოწერილობა | H2: მასალა | J2: ხელფასი | L2: მანქანა- მექანიზმები | N2: სულ
H3: ერთ. ფასი | I3: ჯამი | J3: ერთ. ფასი | K3: ჯამი | L3: ერთ. ფასი | M3: ჯამი
B4: 1 | C4: კედარი ჰიმალაური / Cedrus deodara | D4: ცალი | E4: 9 | F4: 3.00მ-დან | G4: 16სმ-დან | I4: =H4*E4 -> 0 | K4: =J4*E4 -> 0 | M4: =L4*E4 -> 0 | N4: =M4+K4+I4 -> 0
B5: 2 | C5: არიზონას კვიპაროსი / Cupressus arizonica | D5: ცალი | E5: 12 | F5: 3.00მ-დან | G5: 16სმ-დან | I5: =H5*E5 -> 0 | K5: =J5*E5 -> 0 | N5: =M5+K5+I5 -> 0
B6: 3 | C6: LIBOCEDRUS DECCURENS VERIEGATA CONT. | D6: ცალი | E6: 4 | F6: 1.00მ-დან | G6: 8სმ-დან | I6: =H6*E6 -> 0 | K6: =J6*E6 -> 0 | M6: =L6*E6 -> 0 | N6: =M6+K6+I6 -> 0
B7: 4 | C7: ნეკერჩხალი ჭადარფოთოლა / Acer platanoides | D7: ცალი | E7: 4 | F7: 3.50მ-დან | G7: 16სმ-დან | I7: =H7*E7 -> 0 | K7: =J7*E7 -> 0 | N7: =M7+K7+I7 -> 0
B8: 5 | C8: კვიპაროსი /Cupressocyparis leylandii | D8: ცალი | E8: 7 | F8: 3.50მ-დან | G8: 16სმ-დან | I8: =H8*E8 -> 0 | K8: =J8*E8 -> 0 | N8: =M8+K8+I8 -> 0
B9: 6 | C9: ყვითელფოთოლა იფანი | D9: ცალი | E9: 2 | F9: 3.00მ-დან | G9: 16სმ-დან | I9: =H9*E9 -> 0 | K9: =J9*E9 -> 0 | N9: =M9+K9+I9 -> 0
B10: 7 | C10: დარგვა (გამაგრება ჭიგოებით) | D10: ცალი | E10: =SUM(E4:E9) -> 38
B11: 8 | C11: ბალახი - ჰიდროთესავა | D11: მ² | E11: 1383 | I11: =H11*E11 -> 0 | K11: =J11*E11 -> 0 | N11: =M11+K11+I11 -> 0
B12: 9 | C12: მექანიკური საირიგაციო სისტემის მოწყობა (სარწყავი წყლის ხაზების მიყვანა) | D12: მ² | E12: =E11 -> 1383 | I12: =H12*E12 -> 0 | K12: =J12*E12 -> 0 | M12: =L12*E12 -> 0 | N12: =M12+K12+I12 -> 0
B13: 10 | C13: საშემსრულებლო ნახაზები | D13: მ² | E13: =E12 -> 1383 | I13: =H13*E13 -> 0 | K13: =J13*E13 -> 0 | M13: =L13*E13 -> 0 | N13: =M13+K13+I13 -> 0
B14: 11 | C14: მიწის შეტანა | D14: მ3 | E14: 276.6 | I14: =H14*E14 -> 0 | K14: =J14*E14 -> 0 | M14: =L14*E14 -> 0 | N14: =M14+K14+I14 -> 0
B15: 12 | C15: ხეების მოვლა-პატრონობა | D15: თვე | E15: 3 | I15: =H15*E15 -> 0 | K15: =J15*E15 -> 0 | N15: =M15+K15+I15 -> 0
C16: ჯამი | I16: =SUM(I4:I15) -> 0 | K16: =SUM(K4:K15) -> 0 | M16: =SUM(M4:M15) -> 0 | N16: =SUM(N4:N15) -> 0
C17: სატრანსპორტო ხარჯი მასალიდან | D17: 0 | N17: =I16*D17 -> 0
C18: ჯამი | N18: =N17+N16 -> 0
C19: ზედნადები ხარჯები | D19: 0 | N19: =N18*D19 -> 0
C20: ჯამი | N20: =N18+N19 -> 0
C21: გეგმიური დაგროვება | D21: 0 | N21: =N20*D21 -> 0
C22: ჯამი | N22: =N20+N21 -> 0
C23: გაუთვალისწინებელი ხარჯი | D23: 0 | N23: =N22*D23 -> 0
C24: ჯამი | N24: =N22+N23 -> 0
C25: დღგ | D25: 0 | N25: =N24*D25 -> 0
C26: ჯამი | N26: =N25+N24 -> 0

Sheet ინვენტარი
B1: mirtkhulava 9/11
B2: # | C2: სამუშაოს დასახელება | D2: განზ | E2: ნორმ. ერთეული | F2: რაოდენობა | G2: მასალა | I2: ხელფასი | K2: მანქანა- მექანიზმები | M2: სულ
G3: ერთ. ფასი | H3: ჯამი | I3: ერთ. ფასი | J3: ჯამი | K3: ერთ. ფასი | L3: ჯამი
B4: 1 | C4: 2 | D4: 3 | E4: 4 | F4: 5 | G4: 6 | H4: 7 | I4: 8 | J4: 9 | K4: 10 | L4: 11 | M4: 12
B6: 1 | C6: სასრიალო | D6: ცალი | F6: 1 | H6: =G6*F6 -> 0 | J6: =I6*F6 -> 0 | M6: =H6+J6+L6 -> 0 | N6: ვიზუალი და ზომები იხილეთ ტენდერზე დართულ ლინკზე
B7: 2 | C7: სასრიალოების განთავსების ადგილზე ბეტონის დასხმა და კაუჩუკის საფარის მოწყობა | D7: კვ.მ | F7: 50 | J7: =I7*F7 -> 0 | M7: =H7+J7+L7 -> 0
C8: ბეტონის დასხმა | D8: მ³ | E8: 0.1 | F8: =F7*E8 -> 5 | H8: =G8*F8 -> 0 | M8: =H8+J8+L8 -> 0
C9: კაუჩუკის საფარი (40*40*2) | D9: კვ.მ | E9: 1 | F9: =F7*E9 -> 50 | H9: =G9*F9 -> 0 | M9: =H9+J9+L9 -> 0
C10: წებო | E10: 1.5 | F10: =F9*E10 -> 75 | H10: =G10*F10 -> 0 | M10: =H10+J10+L10 -> 0
B11: 3 | C11: ასფალტობეტონის დახაზვა | D11: მ² | F11: 3193.5537 | H11: =G11*F11 -> 0 | J11: =I11*F11 -> 0 | M11: =H11+J11+L11 -> 0
B12: 4 | C12: ატრაქციონის ბილიკების და სკამის ბალიშის მოწყობა | D12: მ² | F12: 32 | H12: =G12*F12 -> 0 | J12: =I12*F12 -> 0 | M12: =H12+J12+L12 -> 0
C13: ბეტონი | D13: მ³ | E13: 0.1 | F13: =F12*E13 -> 3.2 | H13: =G13*F13 -> 0 | M13: =H13+J13+L13 -> 0
B14: 5 | C14: ურნა | D14: ცალი | F14: 5 | H14: =G14*F14 -> 0 | J14: =I14*F14 -> 0 | M14: =H14+J14+L14 -> 0 | N14: ვიზუალი და ზომები იხილეთ ტენდერზე დართულ ლინკზე
B15: 6 | C15: საკმი | D15: ცალი | F15: 12 | H15: =G15*F15 -> 0 | J15: =I15*F15 -> 0 | M15: =H15+J15+L15 -> 0 | N15: ვიზუალი და ზომები იხილეთ ტენდერზე დართულ ლინკზე
C16: ჯამი | H16: =SUM(H6:H15) -> 0 | J16: =SUM(J6:J15) -> 0 | L16: =SUM(L6:L15) -> 0 | M16: =SUM(M6:M15) -> 0
C17: სატრანსპორტო ხარჯი | D17: 0 | M17: =H16*D17 -> 0
C18: ჯამი | M18: =M16+M17 -> 0
C19: ზედნადები ხარჯები | D19: 0 | M19: =M18*D19 -> 0
C20: ჯამი | M20: =M19+M18 -> 0
C21: გეგმიური დაგროვება | D21: 0 | M21: =M20*D21 -> 0
C22: ჯამი | M22: =M21+M20 -> 0
C23: გაუთვალისწინებელი ხარჯი | D23: 0 | M23: =M22*D23 -> 0
C24: ჯამი | M24: =M23+M22 -> 0
C25: დ.ღ.გ | D25: 0 | M25: =M24*D25 -> 0
C26: ჯამი | M26: =M25+M24 -> 0

Sheet შლაგბ.& დაშვება
B1: mirtkhulava 9/11
B2: დასახელება | D2: Total | E2: unit price | F2: Total price
B3: დაშვების სისტემა
B4: დაშვების სისტემა | C4: კომპ | E4: 0 | F4: =E4*D4 -> 0 | G4: მირცხულავას დასრულებულ კორპუსებში არსებულის იდენტური, უნდა წარმოგვიდგინოთ ტექნიკური დეტალები და ვიზაული
B5: შლაგბაუმის მოწყობა
B6: შლაგბაუმი (კვების ხაზის მიყვანით) | C6: ცალი | D6: 2 | F6: =E6*D6 -> 0
B7: პულტები | C7: ცალი | D7: 80 | F7: =E7*D7 -> 0
B8: ჯამი | F8: =SUM(F4:F7) -> 0
B9: სატრანსპორტო ხარჯი | C9: 0 | F9: =F8*C9 -> 0
B10: ჯამი | F10: =F8+F9 -> 0
B11: ზედნადები ხარჯები | C11: 0 | F11: =F10*C11 -> 0
B12: ჯამი | F12: =F11+F10 -> 0
B13: გეგმიური დაგროვება | C13: 0 | F13: =F12*C13 -> 0
B14: ჯამი | F14: =F13+F12 -> 0
B15: გაუთვალისწინებელი ხარჯი | C15: 0 | F15: =F14*C15 -> 0
B16: ჯამი | F16: =F15+F14 -> 0
B17: დ.ღ.გ | C17: 0 | F17: =F16*C17 -> 0
B18: ჯამი | F18: =F17+F16 -> 0

Sheet გარე კომუნიკაცია
B2: # | C2: სამუშაოს დასახელება | D2: განზომილება | E2: რაოდენობა | F2: მასალა | H2: ხელფასი | J2: სულ
F3: ერთ. ფასი | G3: ჯამი | H3: ერთ. ფასი | I3: ჯამი
B4: 1 | C4: 2 | D4: 3 | E4: 5 | F4: 6 | G4: 7 | H4: 8 | I4: 9 | J4: 12
C5: სანიაღვრე სამუშაოები
B6: 1 | C6: თხრილის დამუშავება გრუნტში მექანიზმებით | D6: მ3 | E6: =E8*0.7*0.5+E18*0.7*0.5 -> 73.5 | G6: =E6*F6 -> 0 | I6: =H6*E6 -> 0 | J6: =I6+G6 -> 0
B7: 2 | C7: იგივე ხელით (თხრილის პროფილის მოსასწორებლად) | D7: მ3 | E7: =E6*10% -> 7.35 | G7: =E7*F7 -> 0 | I7: =H7*E7 -> 0 | J7: =I7+G7 -> 0
B8: 3 | C8: საკანალიზაციო მილი D50 | D8: მ | E8: 50 | G8: =E8*F8 -> 0 | I8: =H8*E8 -> 0 | J8: =I8+G8 -> 0
B9: 4 | C9: მილის მოთავსება ქვიშის გარემოცვაში ხელით (მილის ძირზე 10სმ, მილის თავზე 20სმ ქვიშა) | D9: მ3 | E9: 9 | G9: =E9*F9 -> 0 | I9: =H9*E9 -> 0 | J9: =I9+G9 -> 0
B10: 5 | C10: ჭის გახვრეტა და დაერთება | D10: ცალი | E10: 4 | G10: =E10*F10 -> 0 | I10: =H10*E10 -> 0 | J10: =I10+G10 -> 0
B11: 6 | C11: ანაკრები რკ/ბ ჭის მოწყობა D=1000 | D11: ც | E11: 2 | G11: =E11*F11 -> 0 | I11: =H11*E11 -> 0 | J11: =I11+G11 -> 0
B12: 7 | C12: რკ/ბ რგოლი D=1000 მმ / H=1000 მმ | D12: ც | E12: 6 | G12: =E12*F12 -> 0 | J12: =I12+G12 -> 0
B13: 1 | C13: რკ/ბ რგოლი D=1000 მმ / H=500 მმ | D13: ც | E13: 2 | G13: =E13*F13 -> 0 | I13: =H13*E13 -> 0 | J13: =I13+G13 -> 0
B14: 2 | C14: რკ/ბ მრგვალი ძირი D=1000 მმ | D14: ც | E14: 2 | G14: =E14*F14 -> 0 | I14: =H14*E14 -> 0 | J14: =I14+G14 -> 0
B15: 3 | C15: რკ/ბ გადახურვის ფილა D=1000 მმ თუჯის ჩარჩო-ხუფით | D15: ც | E15: 2 | G15: =E15*F15 -> 0 | I15: =H15*E15 -> 0 | J15: =I15+G15 -> 0
B16: 4 | C16: ჭის გარე კედლების იზოლაცია ბიტუმის მასტიკით 2ჯერ | D16: მ2 | E16: 48 | G16: =E16*F16 -> 0 | I16: =H16*E16 -> 0 | J16: =I16+G16 -> 0 | L16: დაემატა ხელფასი
B17: 5 | C17: ტუმბო, სანიაღვრე სისტემისთვის | D17: ცალი | E17: 2 | G17: =E17*F17 -> 0 | I17: =H17*E17 -> 0 | J17: =I17+G17 -> 0
B18: 4 | C18: სპილენძის კაბელი N2XY 3x2.5მმ² | D18: გრძ.მ | E18: 160 | G18: =E18*F18 -> 0 | I18: =H18*E18 -> 0 | J18: =I18+G18 -> 0
B19: 5 | C19: გოფრირებული მილი Ø20 (წითელი) | D19: გრძ.მ | E19: 160 | G19: =E19*F19 -> 0 | I19: =H19*E19 -> 0 | J19: =I19+G19 -> 0
C20: ჯამი | G20: =SUM(G5:G19) -> 0 | I20: =SUM(I5:I19) -> 0 | J20: =SUM(J5:J19) -> 0
C21: სატრანსპორტო ხარჯი მასალიდან | D21: 0 | J21: =G20*D21 -> 0
C22: ჯამი | J22: =J21+J20 -> 0
C23: ზედნადები ხარჯები | D23: 0 | J23: =J22*D23 -> 0
C24: ჯამი | J24: =J22+J23 -> 0
C25: გეგმიური დაგროვება | D25: 0 | J25: =J24*D25 -> 0
C26: ჯამი | J26: =J24+J25 -> 0
C27: გაუთვალისწინებელი ხარჯი | D27: 0 | J27: =J26*D27 -> 0
C28: ჯამი | J28: =J26+J27 -> 0
C29: დღგ | D29: 0 | J29: =J28*D29 -> 0
C30: ჯამი | J30: =J29+J28 -> 0

Sheet დამატებითი სამუშაო
B2: # | C2: სამუშაოს დასახელება | D2: განზომილება | E2: ნორმ. ერთეული | F2: რაოდენობა | G2: მასალა | I2: ხელფასი | K2: მანქანა- მექანიზმები | M2: სულ
G3: ერთ. ფასი | H3: ჯამი | I3: ერთ. ფასი | J3: ჯამი | K3: ერთ. ფასი | L3: ჯამი
B4: 1 | C4: 2 | D4: 3 | E4: 4 | F4: 5 | G4: 6 | H4: 7 | I4: 8 | J4: 9 | K4: 10 | L4: 11 | M4: 12
B5: 1 | C5: ბეტონის ბორდიურების დემონტაჟი | D5: გრძ.მ | F5: 75
C6: შრომის დანახარჯები | D6: გრძ.მ | E6: 1 | F6: =E6*F5 -> 75 | J6: =I6*F6 -> 0 | M6: =L6+J6+H6 -> 0
B7: 2 | C7: ტროტუარებზე ბაზალტის ფილების დემონტაჟი | D7: მ² | F7: 50
C8: შრომის დანახარჯები | D8: მ² | E8: 1 | F8: =F7 -> 50 | J8: =I8*F8 -> 0 | M8: =L8+J8+H8 -> 0
C9: სხვა მანქანა | D9: lari | E9: =0.087*0.4 -> 0.0348 | F9: =F7*E9 -> 1.74 | L9: =F9*K9 -> 0 | M9: =H9+J9+L9 -> 0
B10: 3 | C10: ბეტონის ბორდიურების მოწყობა | D10: გრძ.მ | F10: 75
C11: შრომის დანახარჯები | D11: გრძ.მ | E11: 1 | F11: =E11*F10 -> 75 | J11: =I11*F11 -> 0 | M11: =L11+J11+H11 -> 0
C12: მასალა: | M12: =L12+J12+H12 -> 0
C13: ბეტონის ბორდიური 30x15 | D13: გრძ.მ | E13: 1.03 | F13: =E13*F10 -> 77.25 | H13: =G13*F13 -> 0 | M13: =L13+J13+H13 -> 0
C14: ცემენტის ხსნარი მ100 | D14: მ³ | E14: =0.1*0.05*1.2 -> 0.006 | F14: =E14*F10 -> 0.45 | H14: =G14*F14 -> 0 | M14: =L14+J14+H14 -> 0
C15: სხვა მასალა | D15: ლარი | E15: 1 | F15: =E15*F10 -> 75 | H15: =G15*F15 -> 0 | M15: =L15+J15+H15 -> 0
B16: =B10+1 -> 4 | C16: ტროტუარებზე ბაზალტის ფილების მოწყობა | D16: მ² | F16: 50
C17: შრომის დანახარჯები | D17: მ² | E17: 1 | F17: =F16 -> 50 | J17: =I17*F17 -> 0 | M17: =L17+J17+H17 -> 0
C18: სხვა მანქანა | D18: ლარი | E18: 0.026 | F18: =E18*F16 -> 1.3 | L18: =K18*F18 -> 0 | M18: =L18+J18+H18 -> 0
C19: მასალა: | M19: =L19+J19+H19 -> 0
C20: ბაზალტის ფილა სისქით 3სმ | D20: მ² | E20: 1.05 | F20: =E20*F16 -> 52.5 | H20: =G20*F20 -> 0 | M20: =L20+J20+H20 -> 0
C21: ქვიშა-ცემენტის ხსნარი | D21: მ3 | E21: 0.1 | F21: =E21*F16 -> 5 | H21: =G21*F21 -> 0 | M21: =L21+J21+H21 -> 0
C22: სხვა მასალა | D22: ლარი | E22: 0.0096 | F22: =E22*F16 -> 0.48 | H22: =G22*F22 -> 0 | M22: =L22+J22+H22 -> 0
B23: =B16+1 -> 5 | C23: ჰაერსატარის თუნუქის ლითონის თავების მონტაჟი | D23: მ² | F23: 6 | M23: 0
C24: შრომის დანახარჯები | D24: მ² | E24: 1 | F24: =F23*E24 -> 6 | J24: =F23*I24 -> 0 | M24: =L24+J24+H24 -> 0
C25: სხვა მანქანა | D25: ლარი | E25: 0.057 | F25: 1 | L25: =E25*K25 -> 0 | M25: =L25+J25+H25 -> 0
C26: მასალა: | M26: =L26+J26+H26 -> 0
C27: ფერადი თუნუქი გლუვი 0.5მმ | D27: მ² | E27: 1.05 | F27: =E27*F23 -> 6.3 | H27: =F27*G27 -> 0 | M27: =L27+J27+H27 -> 0
C28: კვადრატული მილი 40x40x3 | D28: გრძ.მ | E28: 1.05 | F28: =30*E28 -> 31.5 | H28: =F28*G28 -> 0 | M28: =L28+J28+H28 -> 0
C29: კვადრატული მილი 50x50x4 | D29: გრძ.მ | E29: 1.05 | F29: =65*E29 -> 68.25 | H29: =F29*G29 -> 0 | M29: =L29+J29+H29 -> 0
C30: ლითონის ბადე | D30: მ² | E30: 1.05 | F30: =3*E30 -> 3.15 | H30: =F30*G30 -> 0 | M30: =L30+J30+H30 -> 0
C31: სჭვალი | D31: ცალი | E31: 6 | F31: =F23*E31 -> 36 | H31: =F31*G31 -> 0 | M31: =L31+J31+H31 -> 0
C32: სხვა მასალა | D32: ლარი | E32: 0.124 | F32: =F23*E32 -> 0.744 | H32: =F32*G32 -> 0 | M32: =L32+J32+H32 -> 0
B33: =B23+1 -> 6 | C33: პანდუსის კედლების ჰიდროიზოლაცია | D33: მ² | F33: 100 | M33: 0
C34: შრომის დანახარჯები | D34: მ² | E34: 1 | F34: =F33*E34 -> 100 | J34: =F33*I34 -> 0 | M34: =L34+J34+H34 -> 0
C35: მასალა: | M35: =L35+J35+H35 -> 0
C36: Sika Igasol BC | D36: კგ | E36: 1.5 | F36: =E36*F33 -> 150 | H36: =F36*G36 -> 0 | M36: =L36+J36+H36 -> 0
C37: Sika Igoflex N | D37: კგ | E37: =0.65*2 -> 1.3 | F37: =E37*F33 -> 130 | H37: =F37*G37 -> 0 | M37: =L37+J37+H37 -> 0
C38: სხვა მასალა | D38: ლარი | E38: 1 | F38: =F33*E38 -> 100 | H38: =F38*G38 -> 0 | M38: =L38+J38+H38 -> 0
B39: =B33+1 -> 7 | C39: ტემპერატურული ნაკერის ჩახურვა და იზოლაცით დამუშავება | D39: გრძ.მ | F39: 11 | M39: 0
C40: შრომის დანახარჯები | D40: მ² | E40: 1 | F40: =F39*E40 -> 11 | J40: =F39*I40 -> 0 | M40: =L40+J40+H40 -> 0
C41: მასალა: | M41: =L41+J41+H41 -> 0
...
