Workbook

Sheet კრებსითი
B1: კრებსითი - ქუთაისი - შენობა 2 000 მ²
B2: ="შენობა "&TEXT(გეომეტრია!$B$6,"0.##")&" × "&TEXT(გეომეტრია!$B$7,"0.##")&" მ = "&TEXT(გეომეტრია!$B$40,"#,##0")&" მ², კედელი "&TEXT(გეომეტრია!$B$8,"0.0")&" მ" -> შენობა 62.5 × 32. მ = 2,000 მ², კედელი 6.0 მ
B4: ობიექტი | C4: მასალა | D4: ხელობა | E4: მანქანა-დანადგარები | F4: დარიცხვები (დღგ-ის ჩათვლით) | G4: ჯამი, დღგ-ით | H4: ჯამი, დღგ-ის გარეშე
B5: შენობა | C5: =შენობა!G149 -> 0 | D5: =შენობა!I149 -> 0 | E5: =შენობა!K149 -> 0 | F5: =შენობა!L159-შენობა!L149 -> 0 | G5: =შენობა!L159 -> 0 | H5: =შენობა!L157 -> 0
B6: სულ | C6: =SUM(C5:C5) -> 0 | D6: =SUM(D5:D5) -> 0 | E6: =SUM(E5:E5) -> 0 | F6: =SUM(F5:F5) -> 0 | G6: =SUM(G5:G5) -> 0 | H6: =SUM(H5:H5) -> 0
B8: პროექტის ბიუჯეტი
B9: სამშენებლო სამუშაოები, დღგ-ის გარეშე | H9: =H6 -> 0
B10: დაპროექტება და ნებართვა | H10: =H6*გეომეტრია!$B$79 -> 0
B11: ტექ. ზედამხედველობა | H11: =H6*გეომეტრია!$B$80 -> 0
B12: პროექტი სულ, დღგ-ის გარეშე | H12: =SUM(H9:H11) -> 0
B13: პროექტი სულ, დღგ-ით | H13: =H12*(1+გეომეტრია!$B$78) -> 0
B14: პროექტი სულ, დღგ-ის გარეშე, USD | H14: =H12/გეომეტრია!$B$81 -> 0
B15: შენობა 1 მ²-ზე, დღგ-ის გარეშე, USD | H15: =H5/გეომეტრია!$B$40/გეომეტრია!$B$81 -> 0

Sheet შენობა
B1: ქუთაისი - შენობა 2 000 მ² - მიწა, საძირკველი, ფილა, კარკასი, სენდვიჩ-პანელი, კარები
A3: № | B3: სამუშაოების დასახელება | C3: განზ | D3: ნორმატიული რესურსი | E3: რაოდენობა | F3: მასალები | H3: ხელფასი | J3: მანქანა-მექანიზმები | L3: ჯამი
F4: ერთ. ფასი | G4: ჯამი | H4: ერთ. ფასი | I4: ჯამი | J4: ერთ. ფასი | K4: ჯამი
A5: 1 | B5: 2 | C5: 3 | D5: 4 | E5: 5 | F5: 6 | G5: 7 | H5: 8 | I5: 9 | J5: 10 | K5: 11 | L5: 12
B6: მიწის სამუშაოები
A7: 1 | B7: III კატეგორიის გრუნტის დამუშავება ექსკავატორით, ა/თვითმცლელზე დატვირთვით | C7: მ³ | E7: =გეომეტრია!$B$51 -> 1021.7772
B8: შრომითი დანახარჯები | C8: მ³ | D8: 1 | E8: =D8*E$7 -> 1021.7772 | G8: 0 | I8: =E8*H8 -> 0 | K8: 0 | L8: =G8+I8+K8 -> 0
B9: ექსკავატორი მუხლუხა სვლაზე 0,5 მ³ ციცხვით | C9: მანქ/სთ | D9: 0.0556 | E9: =D9*E$7 -> 56.810812 | G9: 0 | I9: 0 | K9: =E9*J9 -> 0 | L9: =G9+I9+K9 -> 0
B10: სხვა მანქანები | C10: ლარი | D10: 0.0022 | E10: =D10*E$7 -> 2.2479098 | G10: 0 | I10: 0 | K10: =E10*J10 -> 0 | L10: =G10+I10+K10 -> 0
A11: 2 | B11: გრუნტის დამუშავება ხელით, მოსწორება, დატვირთვა ა/თვითმცლელზე | C11: მ³ | E11: =გეომეტრია!$B$52 -> 113.5308
B12: შრომითი დანახარჯები | C12: მ³ | D12: 1 | E12: =D12*E$11 -> 113.5308 | G12: 0 | I12: =E12*H12 -> 0 | K12: 0 | L12: =G12+I12+K12 -> 0
A13: 3 | B13: ზედმეტი გრუნტის გატანა ა/თვითმცლელით 25 კმ-ზე | C13: მ³ | E13: =გეომეტრია!$B$50 -> 1135.308
B14: გრუნტის ტრანსპორტირება | C14: ტნ | D14: 1.9 | E14: =D14*E$13 -> 2157.0852 | G14: 0 | I14: 0 | K14: =E14*J14 -> 0 | L14: =G14+I14+K14 -> 0
B15: საძირკველი
A16: 4 | B16: საძირკვლის ქვეშ ბალასტის შემოტანა და ჩაყრა ფენებად დატკეპნით | C16: მ³ | E16: =გეომეტრია!$B$54 -> 65.232
B17: შრომითი დანახარჯები | C17: მ³ | D17: 1 | E17: =D17*E$16 -> 65.232 | G17: 0 | I17: =E17*H17 -> 0 | K17: 0 | L17: =G17+I17+K17 -> 0
B18: ბალასტი | C18: მ³ | D18: 1.25 | E18: =D18*E$16 -> 81.54 | G18: =E18*F18 -> 0 | I18: 0 | K18: =E18*J18 -> 0 | L18: =G18+I18+K18 -> 0
B19: ბალასტის ტრანსპორტირება 25 კმ-დან | C19: ტნ | D19: 1.6 | E19: =D19*E$16 -> 104.3712 | G19: 0 | I19: 0 | K19: =E19*J19 -> 0 | L19: =G19+I19+K19 -> 0
B20: სხვა მასალები | C20: ლარი | D20: 0.01 | E20: =D20*E$16 -> 0.65232 | G20: =E20*F20 -> 0 | I20: 0 | K20: 0 | L20: =G20+I20+K20 -> 0
A21: 5 | B21: საძირკვლის ქვეშ ბეტონის მომზადება 7 სმ, B15 | C21: მ³ | E21: =გეომეტრია!$B$55 -> 15.2208
B22: შრომითი დანახარჯები | C22: მ³ | D22: 1 | E22: =D22*E$21 -> 15.2208 | G22: 0 | I22: =E22*H22 -> 0 | K22: 0 | L22: =G22+I22+K22 -> 0
B23: მანქანები | C23: ლარი | D23: 0.285 | E23: =D23*E$21 -> 4.337928 | G23: 0 | I23: 0 | K23: =E23*J23 -> 0 | L23: =G23+I23+K23 -> 0
B24: ბეტონი B15 | C24: მ³ | D24: 1.02 | E24: =D24*E$21 -> 15.525216 | G24: =E24*F24 -> 0 | I24: 0 | K24: 0 | L24: =G24+I24+K24 -> 0
B25: სხვა მასალები | C25: ლარი | D25: 0.62 | E25: =D25*E$21 -> 9.436896 | G25: =E25*F25 -> 0 | I25: 0 | K25: 0 | L25: =G25+I25+K25 -> 0
A26: 6 | B26: მონოლითური რკ/ბ ლენტური საძირკველი, ცოკოლი და სვეტის საძირკვლები, B25 W8 | C26: მ³ | E26: =გეომეტრია!$B$58 -> 132.84
B27: შრომითი დანახარჯები | C27: მ³ | D27: 1 | E27: =D27*E$26 -> 132.84 | G27: 0 | I27: =E27*H27 -> 0 | K27: 0 | L27: =G27+I27+K27 -> 0
B28: მანქანები | C28: ლარი | D28: 0.96 | E28: =D28*E$26 -> 127.5264 | G28: 0 | I28: 0 | K28: =E28*J28 -> 0 | L28: =G28+I28+K28 -> 0
B29: ბეტონი B25 W8 | C29: მ³ | D29: 1.01 | E29: =D29*E$26 -> 134.1684 | G29: =E29*F29 -> 0 | I29: 0 | K29: 0 | L29: =G29+I29+K29 -> 0
B30: არმატურა B500B | C30: ტნ | D30: 0.089 | E30: =D30*E$26 -> 11.82276 | G30: =E30*F30 -> 0 | I30: 0 | K30: 0 | L30: =G30+I30+K30 -> 0
B31: არმატურა Ф8 A240 | C31: ტნ | D31: 0.0154 | E31: =D31*E$26 -> 2.045736 | G31: =E31*F31 -> 0 | I31: 0 | K31: 0 | L31: =G31+I31+K31 -> 0
B32: საყალიბე ფარები 18 მმ | C32: მ² | D32: 2.05 | E32: =D32*E$26 -> 272.322 | G32: =E32*F32 -> 0 | I32: 0 | K32: 0 | L32: =G32+I32+K32 -> 0
B33: დახერხილი ხის მასალა 40 მმ+ | C33: მ³ | D33: 0.03 | E33: =D33*E$26 -> 3.9852 | G33: =E33*F33 -> 0 | I33: 0 | K33: 0 | L33: =G33+I33+K33 -> 0
B34: სხვა მასალები | C34: ლარი | D34: 0.7 | E34: =D34*E$26 -> 92.988 | G34: =E34*F34 -> 0 | I34: 0 | K34: 0 | L34: =G34+I34+K34 -> 0
A35: 7 | B35: ფოლადის ჩასატანებელი ანკერები სვეტებისთვის | C35: კგ | E35: =გეომეტრია!$B$44*გეომეტრია!$B$29 -> 432
B36: ფოლადის ჩასატანებელი დეტალი, ანკერი | C36: კგ | D36: 1 | E36: =D36*E$35 -> 432 | G36: =E36*F36 -> 0 | I36: 0 | K36: 0 | L36: =G36+I36+K36 -> 0
A37: 8 | B37: საძირკვლის მიწასთან შეხებული ზედაპირის ჰიდროიზოლაცია ბიტუმის მასტიკით | C37: მ² | E37: =გეომეტრია!$B$59 -> 513
B38: შრომითი დანახარჯები | C38: მ² | D38: 1 | E38: =D38*E$37 -> 513 | G38: 0 | I38: =E38*H38 -> 0 | K38: 0 | L38: =G38+I38+K38 -> 0
B39: სხვა მანქანები | C39: ლარი | D39: 0.015 | E39: =D39*E$37 -> 7.695 | G39: 0 | I39: 0 | K39: =E39*J39 -> 0 | L39: =G39+I39+K39 -> 0
B40: ბიტუმის მასტიკა, პრაიმერი | C40: კგ | D40: 2.4 | E40: =D40*E$37 -> 1231.2 | G40: =E40*F40 -> 0 | I40: 0 | K40: 0 | L40: =G40+I40+K40 -> 0
B41: სხვა მასალები | C41: ლარი | D41: 0.0227 | E41: =D41*E$37 -> 11.6451 | G41: =E41*F41 -> 0 | I41: 0 | K41: 0 | L41: =G41+I41+K41 -> 0
A42: 9 | B42: თხრილის უკუშევსება ბალასტით ფენებად დატკეპნით | C42: მ³ | E42: =გეომეტრია!$B$60 -> 83.8152
B43: შრომითი დანახარჯები | C43: მ³ | D43: 1 | E43: =D43*E$42 -> 83.8152 | G43: 0 | I43: =E43*H43 -> 0 | K43: 0 | L43: =G43+I43+K43 -> 0
B44: ვიბროსატკეპნი | C44: მანქ/სთ | D44: 0.13 | E44: =D44*E$42 -> 10.895976 | G44: 0 | I44: 0 | K44: =E44*J44 -> 0 | L44: =G44+I44+K44 -> 0
B45: ბალასტი | C45: მ³ | D45: 1.25 | E45: =D45*E$42 -> 104.769 | G45: =E45*F45 -> 0 | I45: 0 | K45: 0 | L45: =G45+I45+K45 -> 0
B46: ბალასტის ტრანსპორტირება 25 კმ-დან | C46: ტნ | D46: 1.6 | E46: =D46*E$42 -> 134.10432 | G46: 0 | I46: 0 | K46: =E46*J46 -> 0 | L46: =G46+I46+K46 -> 0
B47: სხვა მასალები | C47: ლარი | D47: 0.01 | E47: =D47*E$42 -> 0.838152 | G47: =E47*F47 -> 0 | I47: 0 | K47: 0 | L47: =G47+I47+K47 -> 0
B48: არმირებული იატაკის ფილა
A49: 10 | B49: ფილის ქვეშ ბალასტის შემოტანა და ჩაყრა ფენებად დატკეპნით | C49: მ³ | E49: =გეომეტრია!$B$61 -> 600
B50: შრომითი დანახარჯები | C50: მ³ | D50: 1 | E50: =D50*E$49 -> 600 | G50: 0 | I50: =E50*H50 -> 0 | K50: 0 | L50: =G50+I50+K50 -> 0
B51: ბალასტი | C51: მ³ | D51: 1.25 | E51: =D51*E$49 -> 750 | G51: =E51*F51 -> 0 | I51: 0 | K51: =E51*J51 -> 0 | L51: =G51+I51+K51 -> 0
B52: ბალასტის ტრანსპორტირება 25 კმ-დან | C52: ტნ | D52: 1.6 | E52: =D52*E$49 -> 960 | G52: 0 | I52: 0 | K52: =E52*J52 -> 0 | L52: =G52+I52+K52 -> 0
B53: სხვა მასალები | C53: ლარი | D53: 0.01 | E53: =D53*E$49 -> 6 | G53: =E53*F53 -> 0 | I53: 0 | K53: 0 | L53: =G53+I53+K53 -> 0
A54: 11 | B54: ფილის ქვეშ ღორღის საფუძველი დატკეპნით | C54: მ³ | E54: =გეომეტრია!$B$62 -> 200
B55: შრომითი დანახარჯები | C55: მ³ | D55: 1 | E55: =D55*E$54 -> 200 | G55: 0 | I55: =E55*H55 -> 0 | K55: 0 | L55: =G55+I55+K55 -> 0
B56: მანქანები | C56: ლარი | D56: 0.37 | E56: =D56*E$54 -> 74 | G56: 0 | I56: 0 | K56: =E56*J56 -> 0 | L56: =G56+I56+K56 -> 0
B57: ღორღი | C57: მ³ | D57: 1.22 | E57: =D57*E$54 -> 244 | G57: =E57*F57 -> 0 | I57: 0 | K57: 0 | L57: =G57+I57+K57 -> 0
B58: ღორღის ტრანსპორტირება 25 კმ-დან | C58: ტნ | D58: 1.95 | E58: =D58*E$54 -> 390 | G58: 0 | I58: 0 | K58: =E58*J58 -> 0 | L58: =G58+I58+K58 -> 0
B59: სხვა მასალები | C59: ლარი | D59: 0.02 | E59: =D59*E$54 -> 4 | G59: =E59*F59 -> 0 | I59: 0 | K59: 0 | L59: =G59+I59+K59 -> 0
A60: 12 | B60: ჰიდროსაიზოლაციო მემბრანა (პოლიეთილენის ფირი) ფილის ქვეშ | C60: მ² | E60: =გეომეტრია!$B$40*1.1 -> 2200
B61: შრომითი დანახარჯები (გაშლა) | C61: მ² | D61: 1 | E61: =D61*E$60 -> 2200 | G61: 0 | I61: =E61*H61 -> 0 | K61: 0 | L61: =G61+I61+K61 -> 0
B62: პოლიეთილენის ფირი | C62: მ² | D62: 1 | E62: =D62*E$60 -> 2200 | G62: =E62*F62 -> 0 | I62: 0 | K62: 0 | L62: =G62+I62+K62 -> 0
A63: 13 | B63: არმირებული იატაკის ფილა B30 W8 (სამრეწველო იატაკი) | C63: მ³ | E63: =გეომეტრია!$B$63 -> 500
B64: შრომითი დანახარჯები | C64: მ³ | D64: 1 | E64: =D64*E$63 -> 500 | G64: 0 | I64: =E64*H64 -> 0 | K64: 0 | L64: =G64+I64+K64 -> 0
B65: მანქანები | C65: ლარი | D65: 0.77 | E65: =D65*E$63 -> 385 | G65: 0 | I65: 0 | K65: =E65*J65 -> 0 | L65: =G65+I65+K65 -> 0
B66: ბეტონი B30 W8 | C66: მ³ | D66: 1.01 | E66: =D66*E$63 -> 505 | G66: =E66*F66 -> 0 | I66: 0 | K66: 0 | L66: =G66+I66+K66 -> 0
B67: ა/ბეტონტუმბოს მომსახურება | C67: მ³ | D67: 1 | E67: =D67*E$63 -> 500 | G67: 0 | I67: 0 | K67: =E67*J67 -> 0 | L67: =G67+I67+K67 -> 0
B68: არმატურა B500B | C68: ტნ | D68: 0.039 | E68: =D68*E$63 -> 19.5 | G68: =E68*F68 -> 0 | I68: 0 | K68: 0 | L68: =G68+I68+K68 -> 0
B69: დახერხილი ხის მასალა | C69: მ³ | D69: 0.0013 | E69: =D69*E$63 -> 0.65 | G69: =E69*F69 -> 0 | I69: 0 | K69: 0 | L69: =G69+I69+K69 -> 0
B70: სხვა მასალები | C70: ლარი | D70: 0.07 | E70: =D70*E$63 -> 35 | G70: =E70*F70 -> 0 | I70: 0 | K70: 0 | L70: =G70+I70+K70 -> 0
A71: 14 | B71: იატაკის ზედაპირის გამყარება და მოპრიალება (ფხვნილი + ხსნარი) | C71: მ² | E71: =გეომეტრია!$B$40 -> 2000
B72: შრომითი დანახარჯები | C72: მ² | D72: 1 | E72: =D72*E$71 -> 2000 | G72: 0 | I72: =E72*H72 -> 0 | K72: 0 | L72: =G72+I72+K72 -> 0
B73: მანქანები (მოსაპრიალებელი) | C73: ლარი | D73: 0.04 | E73: =D73*E$71 -> 80 | G73: 0 | I73: 0 | K73: =E73*J73 -> 0 | L73: =G73+I73+K73 -> 0
B74: გამამყარებელი ფხვნილი MULTITOP MT302 | C74: მ² | D74: 1 | E74: =D74*E$71 -> 2000 | G74: =E74*F74 -> 0 | I74: 0 | K74: 0 | L74: =G74+I74+K74 -> 0
B75: გამამყარებელი ხსნარი ASHFORD FORMULA | C75: მ² | D75: 1 | E75: =D75*E$71 -> 2000 | G75: =E75*F75 -> 0 | I75: 0 | K75: 0 | L75: =G75+I75+K75 -> 0
B76: სხვა მასალები | C76: ლარი | D76: 0.13 | E76: =D76*E$71 -> 260 | G76: =E76*F76 -> 0 | I76: 0 | K76: 0 | L76: =G76+I76+K76 -> 0
B77: ლითონის კონსტრუქციები
A78: 15 | B78: ლითონის კარკასის (სვეტები, ფერმები, პროგონები, კავშირები) დამზადება და მონტაჟი | C78: ტნ | E78: =გეომეტრია!$B$64 -> 80
B79: შრომითი დანახარჯები | C79: ტნ | D79: 1 | E79: =D79*E$78 -> 80 | G79: 0 | I79: =E79*H79 -> 0 | K79: 0 | L79: =G79+I79+K79 -> 0
B80: სხვა მანქანები | C80: ლარი | D80: 2.26 | E80: =D80*E$78 -> 180.8 | G80: 0 | I80: 0 | K80: =E80*J80 -> 0 | L80: =G80+I80+K80 -> 0
B81: ამწე 16 ტნ პნევმოსვლაზე | C81: მანქ/სთ | D81: 3 | E81: =D81*E$78 -> 240 | G81: 0 | I81: 0 | K81: =E81*J81 -> 0 | L81: =G81+I81+K81 -> 0
B82: ფოლადის პროფილები (მილკვადრატი, ორტესებრი) | C82: ტნ | D82: 1.1 | E82: =D82*E$78 -> 88 | G82: =E82*F82 -> 0 | I82: 0 | K82: 0 | L82: =G82+I82+K82 -> 0
B83: ფოლადის ფურცელი (ფირფიტები) | C83: ტნ | D83: 0.03 | E83: =D83*E$78 -> 2.4 | G83: =E83*F83 -> 0 | I83: 0 | K83: 0 | L83: =G83+I83+K83 -> 0
B84: ჭანჭიკი, ქანჩი საყელურით | C84: კგ | D84: 3.5 | E84: =D84*E$78 -> 280 | G84: =E84*F84 -> 0 | I84: 0 | K84: 0 | L84: =G84+I84+K84 -> 0
B85: ფოლადის დამხმარე სამაგრი დეტალები | C85: ტნ | D85: 0.02 | E85: =D85*E$78 -> 1.6 | G85: =E85*F85 -> 0 | I85: 0 | K85: 0 | L85: =G85+I85+K85 -> 0
B86: ელექტროდი | C86: კგ | D86: 20 | E86: =D86*E$78 -> 1600 | G86: =E86*F86 -> 0 | I86: 0 | K86: 0 | L86: =G86+I86+K86 -> 0
B87: სხვა მასალები | C87: ლარი | D87: 2.78 | E87: =D87*E$78 -> 222.4 | G87: =E87*F87 -> 0 | I87: 0 | K87: 0 | L87: =G87+I87+K87 -> 0
A88: 16 | B88: ლითონკონსტრუქციის გაწმენდა და შეღებვა ანტიკოროზიული საღებავით | C88: მ² | E88: =გეომეტრია!$B$65 -> 2960
B89: შრომითი დანახარჯები | C89: მ² | D89: 1 | E89: =D89*E$88 -> 2960 | G89: 0 | I89: =E89*H89 -> 0 | K89: 0 | L89: =G89+I89+K89 -> 0
B90: მანქანები | C90: ლარი | D90: 0.0103 | E90: =D90*E$88 -> 30.488 | G90: 0 | I90: 0 | K90: =E90*J90 -> 0 | L90: =G90+I90+K90 -> 0
B91: საღებავი ანტიკოროზიული | C91: კგ | D91: 0.253 | E91: =D91*E$88 -> 748.88 | G91: =E91*F91 -> 0 | I91: 0 | K91: 0 | L91: =G91+I91+K91 -> 0
B92: საღებავის გამხსნელი | C92: კგ | D92: 0.027 | E92: =D92*E$88 -> 79.92 | G92: =E92*F92 -> 0 | I92: 0 | K92: 0 | L92: =G92+I92+K92 -> 0
B93: სხვა მასალები | C93: ლარი | D93: 0.0019 | E93: =D93*E$88 -> 5.624 | G93: =E93*F93 -> 0 | I93: 0 | K93: 0 | L93: =G93+I93+K93 -> 0
B94: სახურავი, ფასადი
A95: 17 | B95: სახურავის სენდვიჩ-პანელი 100 მმ (მინ. ბამბა), მონტაჟი | C95: მ² | E95: =გეომეტრია!$B$47 -> 2062.5734
B96: შრომითი დანახარჯები | C96: მ² | D96: 1 | E96: =D96*E$95 -> 2062.5734 | G96: 0 | I96: =E96*H96 -> 0 | K96: 0 | L96: =G96+I96+K96 -> 0
B97: ამწე 16 ტნ პნევმოსვლაზე | C97: მანქ/სთ | D97: 0.041 | E97: =D97*E$95 -> 84.565509 | G97: 0 | I97: 0 | K97: =E97*J97 -> 0 | L97: =G97+I97+K97 -> 0
B98: მანქანები | C98: ლარი | D98: 0.0467 | E98: =D98*E$95 -> 96.322177 | G98: 0 | I98: 0 | K98: =E98*J98 -> 0 | L98: =G98+I98+K98 -> 0
B99: სახურავის სენდვიჩ-პანელი 100 მმ | C99: მ² | D99: 1.1 | E99: =D99*E$95 -> 2268.8307 | G99: =E99*F99 -> 0 | I99: 0 | K99: 0 | L99: =G99+I99+K99 -> 0
B100: სახურავის თვითმჭრელი სჭვალი L=100 მმ | C100: ცალი | D100: 6 | E100: =D100*E$95 -> 12375.44 | G100: =E100*F100 -> 0 | I100: 0 | K100: 0 | L100: =G100+I100+K100 -> 0
B101: სხვა მასალები | C101: ლარი | D101: 0.092 | E101: =D101*E$95 -> 189.75675 | G101: =E101*F101 -> 0 | I101: 0 | K101: 0 | L101: =G101+I101+K101 -> 0
...

Sheet გეომეტრია
A1: გეომეტრია - ქუთაისი - შენობა 2 000 მ²
A2: ყვითელი = შესაყვანი. რაოდენობები ავტომატურად გადადის ფურცელზე „შენობა“.
A4: 1. შენობა
A5: პარამეტრი | B5: მნიშვნელობა | C5: ერთ. | D5: შენიშვნა
A6: შენობის სიგრძე | B6: 62.5 | C6: მ | D6: გარე ზომა
A7: შენობის სიგანე | B7: 32 | C7: მ | D7: გარე ზომა
A8: კედლის სიმაღლე (კარნიზამდე) | B8: 6 | C8: მ
A9: სახურავის კონსტრუქციის სიმაღლე | B9: 0.5 | C9: მ | D9: სუფთა სიმაღლე = კედელი − ეს
A10: სახურავის დახრა | B10: 5 | C10: % | D10: ორფერდა
A11: ჩარჩოების ბიჯი | B11: 6 | C11: მ
A12: სვეტების გრძივი რიგები | B12: 3 | C12: ც. | D12: 2 = მხოლოდ კედლებთან; 3 = + შუა რიგი
A13: კარკასის ლითონი | B13: 40 | C13: კგ/მ² | D13: 2 მალი × 16 მ, შუა რიგი სვეტებით; კონსტრუქტორი დააზუსტებს
A14: ლითონის შესაღები ზედაპირი | B14: 37 | C14: მ²/ტ | D14: დანართი 1: 80 მ² / 2,13 ტ
A16: 2. მიწა, საძირკველი, იატაკი
A17: პარამეტრი | B17: მნიშვნელობა | C17: ერთ. | D17: შენიშვნა
A18: გრუნტის ამოღება ფილის ქვეშ | B18: 0.4 | C18: მ
A19: ხელით დამუშავების წილი | B19: 0.1 | D19: დანართი 1: 3,6 / 36
A20: ბალასტის ბალიში ფილის ქვეშ | B20: 0.3 | C20: მ
A21: ღორღის საფუძველი ფილის ქვეშ | B21: 0.1 | C21: მ
A22: სვეტის საძირკვლის ზომა (a × a) | B22: 1.5 | C22: მ
A23: სვეტის საძირკვლის სიმაღლე | B23: 0.8 | C23: მ
A24: ცოკოლის / ლენტური საძირკვლის სიგანე | B24: 0.4 | C24: მ
A25: ცოკოლის / ლენტური საძირკვლის სიმაღლე | B25: 0.9 | C25: მ
A26: ბალასტი საძირკვლის ქვეშ | B26: 0.3 | C26: მ
A27: იატაკის ფილის სისქე | B27: 0.25 | C27: მ
A28: სარინელის სიგანე | B28: 1.2 | C28: მ
A29: ანკერი ერთ სვეტზე | B29: 12 | C29: კგ
A31: 3. კარ-ფანჯარა
A32: პარამეტრი | B32: მნიშვნელობა | C32: ერთ. | D32: შენიშვნა
A33: სექციური / როლეტის კარი: სიგანე | B33: 3 | C33: მ
A34: სექციური / როლეტის კარი: სიმაღლე | B34: 3.5 | C34: მ
A35: სექციური / როლეტის კარი: რაოდენობა | B35: 2 | C35: ც.
A36: ლითონის კარი 1,2 × 2,1 მ (გარე, საევაკუაციო) | B36: 4 | C36: ც.
A38: 5. გამოთვლილი რაოდენობები (არ შეცვალოთ)
A39: მაჩვენებელი | B39: მნიშვნელობა | C39: ერთ. | D39: შენიშვნა
A40: შენობის ფართი | B40: =B6*B7 -> 2000 | C40: მ²
A41: პერიმეტრი | B41: =2*(B6+B7) -> 189 | C41: მ
A42: ქედის სიმაღლე | B42: =B7/2*B10/100 -> 0.8 | C42: მ
A43: სუფთა სიმაღლე კარნიზთან | B43: =B8-B9 -> 5.5 | C43: მ
A44: სვეტები | B44: =B12*(ROUNDUP(B6/B11,0)+1) -> 36 | C44: ც.
A45: კარების ფართი | B45: =B35*B33*B34+B36*1.2*2.1 -> 31.08 | C45: მ²
A46: კედლის სენდვიჩ-პანელი | B46: =B41*B8+B7*B42-B45 -> 1128.52 | C46: მ²
A47: სახურავის სენდვიჩ-პანელი | B47: =B6*B7*SQRT(1+(B10/100)^2)*1.03 -> 2062.5734 | C47: მ²
A48: თუნუქის ჩაფენვები (კუთხეები, კარნიზი, ქედი, კარები) | B48: =(B41+B6+4*B8)*0.5+(B35*2*(B33+B34)+B36*2*3.3)*0.3 -> 153.47 | C48: მ²
A49: თხრილები და ორმოები | B49: =B41*(B24+0.6)*B25+B44*(B22+0.6)^2*B23 -> 297.108 | C49: მ³
A50: გრუნტის ამოღება სულ | B50: =(B6+1)*(B7+1)*B18+B49 -> 1135.308 | C50: მ³
A51: მათ შორის ექსკავატორით | B51: =B50*(1-B19) -> 1021.7772 | C51: მ³
A52: მათ შორის ხელით | B52: =B50*B19 -> 113.5308 | C52: მ³
A53: საძირკვლების ძირის ფართი | B53: =B41*(B24+0.2)+B44*(B22+0.2)^2 -> 217.44 | C53: მ²
A54: ბალასტი საძირკვლის ქვეშ | B54: =B53*B26 -> 65.232 | C54: მ³
A55: ბეტონის მომზადება 7 სმ B15 | B55: =B53*0.07 -> 15.2208 | C55: მ³
A56: ლენტური საძირკველი / ცოკოლი B25W8 | B56: =B41*B24*B25 -> 68.04 | C56: მ³
A57: სვეტის საძირკვლები B25W8 | B57: =B44*B22^2*B23 -> 64.8 | C57: მ³
A58: რკ/ბ საძირკველი სულ | B58: =B56+B57 -> 132.84 | C58: მ³
A59: ჰიდროიზოლაცია (მიწასთან შეხება) | B59: =2*B41*B25+B44*4*B22*B23 -> 513 | C59: მ²
A60: თხრილის უკუშევსება ბალასტით | B60: =MAX(0,B49-B58-B54-B55) -> 83.8152 | C60: მ³
A61: ბალასტი ფილის ქვეშ | B61: =B40*B20 -> 600 | C61: მ³
A62: ღორღი ფილის ქვეშ | B62: =B40*B21 -> 200 | C62: მ³
A63: იატაკის ფილა B30W8 | B63: =B40*B27 -> 500 | C63: მ³
A64: ლითონის კარკასი | B64: =B40*B13/1000 -> 80 | C64: ტ
A65: ლითონის შეღებვა | B65: =B64*B14 -> 2960 | C65: მ²
A66: სარინელი B25 | B66: =(B41+4*B28)*B28*0.1 -> 23.256 | C66: მ³
A67: ღორღი სარინელის ქვეშ | B67: =(B41+4*B28)*B28*0.1 -> 23.256 | C67: მ³
A68: წყალსაწრეტი ღარი + მილები | B68: =2*B6+8*B8 -> 173 | C68: გრძ. მ
A72: 6. დარიცხვები (დანართი 1-ის მსგავსად)
A73: დარიცხვა | B73: % | D73: საიდან
A74: სატრანსპორტო ხარჯი | B74: 0.03 | C74: % | D74: მასალებიდან - 3%
A75: ზედნადები ხარჯი | B75: 0.08 | C75: %
A76: გეგმიური დაგროვება | B76: 0.08 | C76: %
A77: გაუთვალისწინებელი ხარჯები | B77: 0.03 | C77: % | D77: დაპროექტებამდე ვტოვებთ 3%
A78: დღგ | B78: 0.18 | C78: %
A79: დაპროექტება და ნებართვა | B79: 0.01 | C79: % | D79: სამუშაოების %, დღგ-ის გარეშე
A80: ტექ. ზედამხედველობა | B80: 0.01 | C80: %
A81: კურსი, ლარი / USD | B81: 2.592 | D81: 12.10.2026
