Workbook

Sheet კრებსითი
B1: კრებსითი - ქუთაისი - შენობა 2 000 მ²
B2: ="შენობა "&TEXT(გეომეტრია!$B$6,"0.##")&" × "&TEXT(გეომეტრია!$B$7,"0.##")&" მ = "&TEXT(გეომეტრია!$B$40,"#,##0")&" მ², კედელი "&TEXT(გეომეტრია!$B$8,"0.0")&" მ" -> შენობა 62.5 × 32. მ = 2,000 მ², კედელი 6.0 მ
B4: ობიექტი | C4: მასალა | D4: ხელობა | E4: მანქანა-დანადგარები | F4: დარიცხვები (დღგ-ის ჩათვლით) | G4: ჯამი, დღგ-ით | H4: ჯამი, დღგ-ის გარეშე
B5: შენობა | C5: =შენობა!G149 -> 0 | D5: =შენობა!I149 -> 0 | E5: =შენობა!K149 -> 0 | F5: =შენობა!L159-შენობა!L149 -> 0 | G5: =შენობა!L159 -> 0 | H5: =შენობა!L157 -> 0
B6: სულ | C6: =SUM(C5:C5) -> 0 | D6: =SUM(D5:D5) -> 0 | E6: =SUM(E5:E5) -> 0 | F6: =SUM(F5:F5) -> 0 | G6: =SUM(G5:G5) -> 0 | H6: =SUM(H5:H5) -> 0
B8: პროექტის ბიუჯეტი
B9: სამშენებლო სამუშაოები, დღგ-ის გარეშე | H9: =H6 -> 0
B10: დაპროექტება და ნებართვა | H10: =H6*გეომეტრია!$B$79 -> 0
B11: ტექ. ზედამხედველობა | H11: =H6*გეომეტრია!$B$80 -> 0
B12: პროექტი სულ, დღგ-ის გარეშე | H12: =SUM(H9:H11) -> 0
B13: პროექტი სულ, დღგ-ით | H13: =H12*(1+გეომეტრია!$B$78) -> 0
B14: პროექტი სულ, დღგ-ის გარეშე, USD | H14: =H12/გეომეტრია!$B$81 -> 0
B15: შენობა 1 მ²-ზე, დღგ-ის გარეშე, USD | H15: =H5/გეომეტრია!$B$40/გეომეტრია!$B$81 -> 0

Sheet შენობა
B1: ქუთაისი - შენობა 2 000 მ² - მიწა, საძირკველი, ფილა, კარკასი, სენდვიჩ-პანელი, კარები
A3: № | B3: სამუშაოების დასახელება | C3: განზ | D3: ნორმატიული რესურსი | E3: რაოდენობა | F3: მასალები | H3: ხელფასი | J3: მანქანა-მექანიზმები | L3: ჯამი
F4: ერთ. ფასი | G4: ჯამი | H4: ერთ. ფასი | I4: ჯამი | J4: ერთ. ფასი | K4: ჯამი
A5: 1 | B5: 2 | C5: 3 | D5: 4 | E5: 5 | F5: 6 | G5: 7 | H5: 8 | I5: 9 | J5: 10 | K5: 11 | L5: 12
B6: მიწის სამუშაოები
A7: 1 | B7: III კატეგორიის გრუნტის დამუშავება ექსკავატორით, ა/თვითმცლელზე დატვირთვით | C7: მ³ | E7: =გეომეტრია!$B$51 -> 1021.7772
B8: შრომითი დანახარჯები | C8: მ³ | D8: 1 | E8: =D8*E$7 -> 1021.7772 | G8: 0 | I8: =E8*H8 -> 0 | K8: 0 | L8: =G8+I8+K8 -> 0
B9: ექსკავატორი მუხლუხა სვლაზე 0,5 მ³ ციცხვით | C9: მანქ/სთ | D9: 0.0556 | E9: =D9*E$7 -> 56.810812 | G9: 0 | I9: 0 | K9: =E9*J9 -> 0 | L9: =G9+I9+K9 -> 0
B10: სხვა მანქანები | C10: ლარი | D10: 0.0022 | E10: =D10*E$7 -> 2.2479098 | G10: 0 | I10: 0 | K10: =E10*J10 -> 0 | L10: =G10+I10+K10 -> 0
A11: 2 | B11: გრუნტის დამუშავება ხელით, მოსწორება, დატვირთვა ა/თვითმცლელზე | C11: მ³ | E11: =გეომეტრია!$B$52 -> 113.5308
B12: შრომითი დანახარჯები | C12: მ³ | D12: 1 | E12: =D12*E$11 -> 113.5308 | G12: 0 | I12: =E12*H12 -> 0 | K12: 0 | L12: =G12+I12+K12 -> 0
A13: 3 | B13: ზედმეტი გრუნტის გატანა ა/თვითმცლელით 25 კმ-ზე | C13: მ³ | E13: =გეომეტრია!$B$50 -> 1135.308
B14: გრუნტის ტრანსპორტირება | C14: ტნ | D14: 1.9 | E14: =D14*E$13 -> 2157.0852 | G14: 0 | I14: 0 | K14: =E14*J14 -> 0 | L14: =G14+I14+K14 -> 0
B15: საძირკველი
A16: 4 | B16: საძირკვლის ქვეშ ბალასტის შემოტანა და ჩაყრა ფენებად დატკეპნით | C16: მ³ | E16: =გეომეტრია!$B$54 -> 65.232
B17: შრომითი დანახარჯები | C17: მ³ | D17: 1 | E17: =D17*E$16 -> 65.232 | G17: 0 | I17: =E17*H17 -> 0 | K17: 0 | L17: =G17+I17+K17 -> 0
B18: ბალასტი | C18: მ³ | D18: 1.25 | E18: =D18*E$16 -> 81.54 | G18: =E18*F18 -> 0 | I18: 0 | K18: =E18*J18 -> 0 | L18: =G18+I18+K18 -> 0
B19: ბალასტის ტრანსპორტირება 25 კმ-დან | C19: ტნ | D19: 1.6 | E19: =D19*E$16 -> 104.3712 | G19: 0 | I19: 0 | K19: =E19*J19 -> 0 | L19: =G19+I19+K19 -> 0
B20: სხვა მასალები | C20: ლარი | D20: 0.01 | E20: =D20*E$16 -> 0.65232 | G20: =E20*F20 -> 0 | I20: 0 | K20: 0 | L20: =G20+I20+K20 -> 0
A21: 5 | B21: საძირკვლის ქვეშ ბეტონის მომზადება 7 სმ, B15 | C21: მ³ | E21: =გეომეტრია!$B$55 -> 15.2208
B22: შრომითი დანახარჯები | C22: მ³ | D22: 1 | E22: =D22*E$21 -> 15.2208 | G22: 0 | I22: =E22*H22 -> 0 | K22: 0 | L22: =G22+I22+K22 -> 0
B23: მანქანები | C23: ლარი | D23: 0.285 | E23: =D23*E$21 -> 4.337928 | G23: 0 | I23: 0 | K23: =E23*J23 -> 0 | L23: =G23+I23+K23 -> 0
B24: ბეტონი B15 | C24: მ³ | D24: 1.02 | E24: =D24*E$21 -> 15.525216 | G24: =E24*F24 -> 0 | I24: 0 | K24: 0 | L24: =G24+I24+K24 -> 0
B25: სხვა მასალები | C25: ლარი | D25: 0.62 | E25: =D25*E$21 -> 9.436896 | G25: =E25*F25 -> 0 | I25: 0 | K25: 0 | L25: =G25+I25+K25 -> 0
A26: 6 | B26: მონოლითური რკ/ბ ლენტური საძირკველი, ცოკოლი და სვეტის საძირკვლები, B25 W8 | C26: მ³ | E26: =გეომეტრია!$B$58 -> 132.84
B27: შრომითი დანახარჯები | C27: მ³ | D27: 1 | E27: =D27*E$26 -> 132.84 | G27: 0 | I27: =E27*H27 -> 0 | K27: 0 | L27: =G27+I27+K27 -> 0
B28: მანქანები | C28: ლარი | D28: 0.96 | E28: =D28*E$26 -> 127.5264 | G28: 0 | I28: 0 | K28: =E28*J28 -> 0 | L28: =G28+I28+K28 -> 0
B29: ბეტონი B25 W8 | C29: მ³ | D29: 1.01 | E29: =D29*E$26 -> 134.1684 | G29: =E29*F29 -> 0 | I29: 0 | K29: 0 | L29: =G29+I29+K29 -> 0
B30: არმატურა B500B | C30: ტნ | D30: 0.089 | E30: =D30*E$26 -> 11.82276 | G30: =E30*F30 -> 0 | I30: 0 | K30: 0 | L30: =G30+I30+K30 -> 0
B31: არმატურა Ф8 A240 | C31: ტნ | D31: 0.0154 | E31: =D31*E$26 -> 2.045736 | G31: =E31*F31 -> 0 | I31: 0 | K31: 0 | L31: =G31+I31+K31 -> 0
B32: საყალიბე ფარები 18 მმ | C32: მ² | D32: 2.05 | E32: =D32*E$26 -> 272.322 | G32: =E32*F32 -> 0 | I32: 0 | K32: 0 | L32: =G32+I32+K32 -> 0
B33: დახერხილი ხის მასალა 40 მმ+ | C33: მ³ | D33: 0.03 | E33: =D33*E$26 -> 3.9852 | G33: =E33*F33 -> 0 | I33: 0 | K33: 0 | L33: =G33+I33+K33 -> 0
B34: სხვა მასალები | C34: ლარი | D34: 0.7 | E34: =D34*E$26 -> 92.988 | G34: =E34*F34 -> 0 | I34: 0 | K34: 0 | L34: =G34+I34+K34 -> 0
A35: 7 | B35: ფოლადის ჩასატანებელი ანკერები სვეტებისთვის | C35: კგ | E35: =გეომეტრია!$B$44*გეომეტრია!$B$29 -> 432
B36: ფოლადის ჩასატანებელი დეტალი, ანკერი | C36: კგ | D36: 1 | E36: =D36*E$35 -> 432 | G36: =E36*F36 -> 0 | I36: 0 | K36: 0 | L36: =G36+I36+K36 -> 0
A37: 8 | B37: საძირკვლის მიწასთან შეხებული ზედაპირის ჰიდროიზოლაცია ბიტუმის მასტიკით | C37: მ² | E37: =გეომეტრია!$B$59 -> 513
B38: შრომითი დანახარჯები | C38: მ² | D38: 1 | E38: =D38*E$37 -> 513 | G38: 0 | I38: =E38*H38 -> 0 | K38: 0 | L38: =G38+I38+K38 -> 0
B39: სხვა მანქანები | C39: ლარი | D39: 0.015 | E39: =D39*E$37 -> 7.695 | G39: 0 | I39: 0 | K39: =E39*J39 -> 0 | L39: =G39+I39+K39 -> 0
B40: ბიტუმის მასტიკა, პრაიმერი | C40: კგ | D40: 2.4 | E40: =D40*E$37 -> 1231.2 | G40: =E40*F40 -> 0 | I40: 0 | K40: 0 | L40: =G40+I40+K40 -> 0
B41: სხვა მასალები | C41: ლარი | D41: 0.0227 | E41: =D41*E$37 -> 11.6451 | G41: =E41*F41 -> 0 | I41: 0 | K41: 0 | L41: =G41+I41+K41 -> 0
...

Sheet გეომეტრია
A1: გეომეტრია - ქუთაისი - შენობა 2 000 მ²
A2: ყვითელი = შესაყვანი. რაოდენობები ავტომატურად გადადის ფურცელზე „შენობა“.
A4: 1. შენობა
A5: პარამეტრი | B5: მნიშვნელობა | C5: ერთ. | D5: შენიშვნა
A6: შენობის სიგრძე | B6: 62.5 | C6: მ | D6: გარე ზომა
A7: შენობის სიგანე | B7: 32 | C7: მ | D7: გარე ზომა
A8: კედლის სიმაღლე (კარნიზამდე) | B8: 6 | C8: მ
A9: სახურავის კონსტრუქციის სიმაღლე | B9: 0.5 | C9: მ | D9: სუფთა სიმაღლე = კედელი − ეს
A10: სახურავის დახრა | B10: 5 | C10: % | D10: ორფერდა
A11: ჩარჩოების ბიჯი | B11: 6 | C11: მ
A12: სვეტების გრძივი რიგები | B12: 3 | C12: ც. | D12: 2 = მხოლოდ კედლებთან; 3 = + შუა რიგი
A13: კარკასის ლითონი | B13: 40 | C13: კგ/მ² | D13: 2 მალი × 16 მ, შუა რიგი სვეტებით; კონსტრუქტორი დააზუსტებს
A14: ლითონის შესაღები ზედაპირი | B14: 37 | C14: მ²/ტ | D14: დანართი 1: 80 მ² / 2,13 ტ
A16: 2. მიწა, საძირკველი, იატაკი
A17: პარამეტრი | B17: მნიშვნელობა | C17: ერთ. | D17: შენიშვნა
A18: გრუნტის ამოღება ფილის ქვეშ | B18: 0.4 | C18: მ
A19: ხელით დამუშავების წილი | B19: 0.1 | D19: დანართი 1: 3,6 / 36
A20: ბალასტის ბალიში ფილის ქვეშ | B20: 0.3 | C20: მ
A21: ღორღის საფუძველი ფილის ქვეშ | B21: 0.1 | C21: მ
A22: სვეტის საძირკვლის ზომა (a × a) | B22: 1.5 | C22: მ
A23: სვეტის საძირკვლის სიმაღლე | B23: 0.8 | C23: მ
A24: ცოკოლის / ლენტური საძირკვლის სიგანე | B24: 0.4 | C24: მ
A25: ცოკოლის / ლენტური საძირკვლის სიმაღლე | B25: 0.9 | C25: მ
A26: ბალასტი საძირკვლის ქვეშ | B26: 0.3 | C26: მ
A27: იატაკის ფილის სისქე | B27: 0.25 | C27: მ
A28: სარინელის სიგანე | B28: 1.2 | C28: მ
A29: ანკერი ერთ სვეტზე | B29: 12 | C29: კგ
A31: 3. კარ-ფანჯარა
A32: პარამეტრი | B32: მნიშვნელობა | C32: ერთ. | D32: შენიშვნა
A33: სექციური / როლეტის კარი: სიგანე | B33: 3 | C33: მ
A34: სექციური / როლეტის კარი: სიმაღლე | B34: 3.5 | C34: მ
A35: სექციური / როლეტის კარი: რაოდენობა | B35: 2 | C35: ც.
A36: ლითონის კარი 1,2 × 2,1 მ (გარე, საევაკუაციო) | B36: 4 | C36: ც.
A38: 5. გამოთვლილი რაოდენობები (არ შეცვალოთ)
A39: მაჩვენებელი | B39: მნიშვნელობა | C39: ერთ. | D39: შენიშვნა
A40: შენობის ფართი | B40: =B6*B7 -> 2000 | C40: მ²
A41: პერიმეტრი | B41: =2*(B6+B7) -> 189 | C41: მ
A42: ქედის სიმაღლე | B42: =B7/2*B10/100 -> 0.8 | C42: მ
A43: სუფთა სიმაღლე კარნიზთან | B43: =B8-B9 -> 5.5 | C43: მ
A44: სვეტები | B44: =B12*(ROUNDUP(B6/B11,0)+1) -> 36 | C44: ც.
...
