Workbook
Name Ersatzspalten: 'Price schedule | Services'!$I$3:$L$3
Name Erstattungsart: Lists!$B$4:$B$7
Name JaNein: [1]Listen!$D$4:$D$5
Name lSFK: 'List of key experts'!$B$11:$B$34
Name rZeilen: 'Price schedule | Services'!$N$13:$N$19
Name VENr: '[2]Preisblatt | Leistung'!#REF!
Name VEspalten: '[2]Preisblatt | Leistung'!#REF!

Sheet Price schedule | Services
A1: Price schedule for local contracts – Services
A2: CONFIDENTIAL
A3: Contract number (VN): | B3: 10060771 | C3: Date:
A5: Project number / cost centre number: | B5: G-011655-001/0105 | C5: Contractor:
A7: Currency: | B7: GEL | C7: Address:
A9: 1. Fixed price
A11: Item | B11: Description | D11: Quantity | E11: Remuneration | F11: Sum | G11: Explanations
A12: Total | F12: =D12*E12 -> 0
A13: Milestone 1 | F13: =D13*E13 -> 0
A14: Milestone 2 | F14: =D14*E14 -> 0
A15: Milestone 3 | F15: =D15*E15 -> 0
A16: Milestone 4 | F16: =D16*E16 -> 0
A17: Milestone 5 | F17: =D17*E17 -> 0
A18: Milestone 6 | F18: =D18*E18 -> 0
A19: Milestone 7 | F19: =D19*E19 -> 0
A21: Subtotal | F21: =SUM(F12:F20) -> 0
A23: 2. Fees and other costs related to contract
A25: 2.1 Fee – daily rate item | B25: Name | C25: Type of reimbursement | D25: Number of expert-days | E25: Remuneration | F25: Total | G25: Explanations
A26: Team leader | B26: =IFERROR(VLOOKUP(A26,'List of key experts'!$B$11:$D$34,3,0)&" "&VLOOKUP(A26,'List of key experts'!$B$11:$D$34,2,0),"N.N.") | C26: Lump sum/number | F26: =D26*E26 -> 0
A27: Key expert 1 | B27: =IFERROR(VLOOKUP(A27,'List of key experts'!$B$11:$D$34,3,0)&" "&VLOOKUP(A27,'List of key experts'!$B$11:$D$34,2,0),"N.N.") | C27: Lump sum/number | D27: 36 | F27: =D27*E27 -> 0 | G27: Forest Economist
A28: Key expert 2 | B28: =IFERROR(VLOOKUP(A28,'List of key experts'!$B$11:$D$34,3,0)&" "&VLOOKUP(A28,'List of key experts'!$B$11:$D$34,2,0),"N.N.") | C28: Lump sum/number | F28: =D28*E28 -> 0
A29: Key expert 3 | B29: =IFERROR(VLOOKUP(A29,'List of key experts'!$B$11:$D$34,3,0)&" "&VLOOKUP(A29,'List of key experts'!$B$11:$D$34,2,0),"N.N.") | C29: Lump sum/number | F29: =D29*E29 -> 0
A30: Key expert 4 | B30: =IFERROR(VLOOKUP(A30,'List of key experts'!$B$11:$D$34,3,0)&" "&VLOOKUP(A30,'List of key experts'!$B$11:$D$34,2,0),"N.N.") | C30: Lump sum/number | F30: =D30*E30 -> 0
A31: Key expert 5 | B31: =IFERROR(VLOOKUP(A31,'List of key experts'!$B$11:$D$34,3,0)&" "&VLOOKUP(A31,'List of key experts'!$B$11:$D$34,2,0),"N.N.") | C31: Lump sum/number | F31: =D31*E31 -> 0
A32: Expert pool 1 | B32: =IFERROR(VLOOKUP(A32,'List of key experts'!$B$11:$D$34,3,0)&" "&VLOOKUP(A32,'List of key experts'!$B$11:$D$34,2,0),"N.N.") -> N.N. | C32: Lump sum/number | F32: =D32*E32 -> 0
A33: Expert pool 2 | B33: =IFERROR(VLOOKUP(A33,'List of key experts'!$B$11:$D$34,3,0)&" "&VLOOKUP(A33,'List of key experts'!$B$11:$D$34,2,0),"N.N.") -> N.N. | C33: Lump sum/number | F33: =D33*E33 -> 0
A34: Expert pool 3 | B34: =IFERROR(VLOOKUP(A34,'List of key experts'!$B$11:$D$34,3,0)&" "&VLOOKUP(A34,'List of key experts'!$B$11:$D$34,2,0),"N.N.") -> N.N. | C34: Lump sum/number | F34: =D34*E34 -> 0
A35: Expert pool 4 | B35: =IFERROR(VLOOKUP(A35,'List of key experts'!$B$11:$D$34,3,0)&" "&VLOOKUP(A35,'List of key experts'!$B$11:$D$34,2,0),"N.N.") -> N.N. | C35: Lump sum/number | F35: =D35*E35 -> 0
A36: Expert pool 5 | B36: =IFERROR(VLOOKUP(A36,'List of key experts'!$B$11:$D$34,3,0)&" "&VLOOKUP(A36,'List of key experts'!$B$11:$D$34,2,0),"N.N.") -> N.N. | C36: Lump sum/number | F36: =D36*E36 -> 0
A38: Subtotal | F38: =SUM(F26:F37) -> 0
A40: 2.2 Costs related to the contract, item | B40: Name | C40: Invoicing code | D40: Number | E40: Price | F40: Total | G40: Explanations
A41: Team leader | B41: =IFERROR(VLOOKUP(A41,'List of key experts'!$B$11:$D$34,3,0)&" "&VLOOKUP(A41,'List of key experts'!$B$11:$D$34,2,0),"N.N.") | C41: Lump sum/number | F41: =D41*E41 -> 0
A42: Key expert 1 | B42: =IFERROR(VLOOKUP(A42,'List of key experts'!$B$11:$D$34,3,0)&" "&VLOOKUP(A42,'List of key experts'!$B$11:$D$34,2,0),"N.N.") | C42: Lump sum/number | F42: =D42*E42 -> 0
A43: Key expert 2 | B43: =IFERROR(VLOOKUP(A43,'List of key experts'!$B$11:$D$34,3,0)&" "&VLOOKUP(A43,'List of key experts'!$B$11:$D$34,2,0),"N.N.") | C43: Lump sum/number | F43: =D43*E43 -> 0
A44: Key expert 3 | B44: =IFERROR(VLOOKUP(A44,'List of key experts'!$B$11:$D$34,3,0)&" "&VLOOKUP(A44,'List of key experts'!$B$11:$D$34,2,0),"N.N.") | C44: Lump sum/number | F44: =D44*E44 -> 0
A45: Key expert 4 | B45: =IFERROR(VLOOKUP(A45,'List of key experts'!$B$11:$D$34,3,0)&" "&VLOOKUP(A45,'List of key experts'!$B$11:$D$34,2,0),"N.N.") | C45: Lump sum/number | F45: =D45*E45 -> 0
A46: Key expert 5 | B46: =IFERROR(VLOOKUP(A46,'List of key experts'!$B$11:$D$34,3,0)&" "&VLOOKUP(A46,'List of key experts'!$B$11:$D$34,2,0),"N.N.") | C46: Lump sum/number | F46: =D46*E46 -> 0
A47: Expert pool 1 | B47: =IFERROR(VLOOKUP(A47,'List of key experts'!$B$11:$D$34,3,0)&" "&VLOOKUP(A47,'List of key experts'!$B$11:$D$34,2,0),"N.N.") -> N.N. | C47: Lump sum/number | F47: =D47*E47 -> 0
A48: Expert pool 2 | B48: =IFERROR(VLOOKUP(A48,'List of key experts'!$B$11:$D$34,3,0)&" "&VLOOKUP(A48,'List of key experts'!$B$11:$D$34,2,0),"N.N.") -> N.N. | C48: Lump sum/number | F48: =D48*E48 -> 0
A49: Expert pool 3 | B49: =IFERROR(VLOOKUP(A49,'List of key experts'!$B$11:$D$34,3,0)&" "&VLOOKUP(A49,'List of key experts'!$B$11:$D$34,2,0),"N.N.") -> N.N. | C49: Lump sum/number | F49: =D49*E49 -> 0
...

Sheet List of key experts
B2: List of key experts
B3: * Only experts for whom contract supplement is required
B4: ** If a key expert is replaced, please state the end date of the assignment in the explanations; enter the starting date of the assignment for the new expert
B6: Contract no.: | E6: Date: | F6: ='Price schedule | Services'!D3 -> 0
B8: Project no.:
B10: Title of price schedule | C10: Family name | D10: Given name | E10: Date of birth | F10: Place of residence | G10: Explanation of contract supplements
B11: Team leader
B12: Key expert 1
B13: Key expert 2
B14: Key expert 3
B15: Key expert 4
B16: Key expert 5
B17: Key expert 6

Sheet Lists
B3: Type of reimbursement
B4: Please select
B5: Lump sum/number
B6: against evidence
B7: not applicable
