Workbook
Name Ersatzspalten: 'Price schedule | opt. services'!$I$3:$L$3
Name Ersatzspalten: 'Price schedule | Services'!$I$3:$L$3
Name Erstattungsart: [1]Listen!$B$4:$B$7
Name Erstattungsart: Lists!$B$4:$B$7
Name JaNein: [2]Listen!$D$4:$D$5
Name JaNein: [3]Listen!$D$4:$D$5
Name lSFK: '[4]Liste der Schlüsselfachkräfte'!$B$11:$B$34
Name lSFK: 'List of key experts'!$B$11:$B$34
Name rZeilen: 'Price schedule | opt. services'!$N$13:$N$19
Name rZeilen: 'Price schedule | Services'!$N$13:$N$19
Name VENr: '[1]Preisblatt | Leistung'!#REF!
Name VENr: '[5]Preisblatt | Leistung'!#REF!
Name VEspalten: '[1]Preisblatt | Leistung'!#REF!
Name VEspalten: '[5]Preisblatt | Leistung'!#REF!

Sheet Price schedule | Services
A1: Price schedule for local contracts – Services
A2: CONFIDENTIAL
A3: Contract number (VN): | B3: 10062707 | C3: Date:
A5: Project number / cost centre number: | B5: G-011989-003 | C5: Contractor:
A7: Currency: | B7: GEL | C7: Address:
A9: 1. Fixed price
A11: Item | B11: Description | D11: Quantity | E11: Remuneration | F11: Sum | G11: Explanations
A12: Total | F12: =D12*E12 -> 0
A13: Milestone 1 | F13: =D13*E13 -> 0
A14: Milestone 2 | F14: =D14*E14 -> 0
A15: Milestone 3 | F15: =D15*E15 -> 0
A16: Milestone 4 | F16: =D16*E16 -> 0
A17: Milestone 5 | F17: =D17*E17 -> 0
A18: Milestone 6 | F18: =D18*E18 -> 0
A19: Milestone 7 | F19: =D19*E19 -> 0
A21: Subtotal | F21: =SUM(F12:F20) -> 0
A23: 2. Fees and other costs related to contract
A25: 2.1 Fee – daily rate item | B25: Name | C25: Type of reimbursement | D25: Number of expert-days | E25: Remuneration | F25: Total | G25: Explanations
A26: Team leader | B26: =IFERROR(VLOOKUP(A26,'List of key experts'!$B$11:$D$34,3,0)&" "&VLOOKUP(A26,'List of key experts'!$B$11:$D$34,2,0),"N.N.") | C26: Lump sum/number | D26: 15 | F26: =D26*E26 -> 0
A27: Key expert 1 | B27: =IFERROR(VLOOKUP(A27,'List of key experts'!$B$11:$D$34,3,0)&" "&VLOOKUP(A27,'List of key experts'!$B$11:$D$34,2,0),"N.N.") | C27: Lump sum/number | D27: 10 | F27: =D27*E27 -> 0
A28: Key expert 2 | B28: =IFERROR(VLOOKUP(A28,'List of key experts'!$B$11:$D$34,3,0)&" "&VLOOKUP(A28,'List of key experts'!$B$11:$D$34,2,0),"N.N.") | C28: Lump sum/number | D28: 10 | F28: =D28*E28 -> 0
A29: Key expert 3 | B29: =IFERROR(VLOOKUP(A29,'List of key experts'!$B$11:$D$34,3,0)&" "&VLOOKUP(A29,'List of key experts'!$B$11:$D$34,2,0),"N.N.") | C29: Lump sum/number | D29: 20 | F29: =D29*E29 -> 0
A30: Key expert 4 | C30: Lump sum/number | D30: 20 | F30: =D30*E30 -> 0
A31: Expert pool 1 | C31: Lump sum/number | D31: 20 | F31: =D31*E31 -> 0
A32: Expert pool 2 | C32: Lump sum/number | D32: 12 | F32: =D32*E32 -> 0
A34: Subtotal | F34: =SUM(F26:F33) -> 0
A36: 2.2 Costs related to the contract, item | B36: Name | C36: Invoicing code | D36: Number | E36: Price | F36: Total | G36: Explanations
A37: Team leader | B37: =IFERROR(VLOOKUP(A37,'List of key experts'!$B$11:$D$34,3,0)&" "&VLOOKUP(A37,'List of key experts'!$B$11:$D$34,2,0),"N.N.") | C37: Lump sum/number | F37: =D37*E37 -> 0
A38: Key expert 1 | B38: =IFERROR(VLOOKUP(A38,'List of key experts'!$B$11:$D$34,3,0)&" "&VLOOKUP(A38,'List of key experts'!$B$11:$D$34,2,0),"N.N.") | C38: Lump sum/number | F38: =D38*E38 -> 0
A39: Key expert 2 | B39: =IFERROR(VLOOKUP(A39,'List of key experts'!$B$11:$D$34,3,0)&" "&VLOOKUP(A39,'List of key experts'!$B$11:$D$34,2,0),"N.N.") | C39: Lump sum/number | F39: =D39*E39 -> 0
A40: Key expert 3 | B40: =IFERROR(VLOOKUP(A40,'List of key experts'!$B$11:$D$34,3,0)&" "&VLOOKUP(A40,'List of key experts'!$B$11:$D$34,2,0),"N.N.") | C40: Lump sum/number | F40: =D40*E40 -> 0
A41: Key expert 4 | B41: =IFERROR(VLOOKUP(A41,'List of key experts'!$B$11:$D$34,3,0)&" "&VLOOKUP(A41,'List of key experts'!$B$11:$D$34,2,0),"N.N.") | C41: Lump sum/number | F41: =D41*E41 -> 0
A42: Key expert 5 | B42: =IFERROR(VLOOKUP(A42,'List of key experts'!$B$11:$D$34,3,0)&" "&VLOOKUP(A42,'List of key experts'!$B$11:$D$34,2,0),"N.N.") -> N.N. | C42: Lump sum/number | F42: =D42*E42 -> 0
A43: Expert pool 1 | B43: =IFERROR(VLOOKUP(A43,'List of key experts'!$B$11:$D$34,3,0)&" "&VLOOKUP(A43,'List of key experts'!$B$11:$D$34,2,0),"N.N.") | C43: Lump sum/number | F43: =D43*E43 -> 0
A44: Expert pool 2 | B44: =IFERROR(VLOOKUP(A44,'List of key experts'!$B$11:$D$34,3,0)&" "&VLOOKUP(A44,'List of key experts'!$B$11:$D$34,2,0),"N.N.") | C44: Lump sum/number | F44: =D44*E44 -> 0
A45: Expert pool 3 | B45: =IFERROR(VLOOKUP(A45,'List of key experts'!$B$11:$D$34,3,0)&" "&VLOOKUP(A45,'List of key experts'!$B$11:$D$34,2,0),"N.N.") -> N.N. | C45: Lump sum/number | F45: =D45*E45 -> 0
A46: Expert pool 4 | B46: =IFERROR(VLOOKUP(A46,'List of key experts'!$B$11:$D$34,3,0)&" "&VLOOKUP(A46,'List of key experts'!$B$11:$D$34,2,0),"N.N.") -> N.N. | C46: Lump sum/number | F46: =D46*E46 -> 0
A47: Expert pool 5 | B47: =IFERROR(VLOOKUP(A47,'List of key experts'!$B$11:$D$34,3,0)&" "&VLOOKUP(A47,'List of key experts'!$B$11:$D$34,2,0),"N.N.") -> N.N. | C47: Lump sum/number | F47: =D47*E47 -> 0
A49: Subtotal | F49: =SUM(F37:F48) -> 0
A52: 3. Travel expenses
...

Sheet Price schedule | opt. services
A1: Price schedule for local contracts – Optional services
A2: CONFIDENTIAL
A3: Contract number (VN): | B3: ='Price schedule | Services'!B3 -> 10062707 | C3: Date: | D3: ='Price schedule | Services'!D3 -> 0
A5: Project number / cost centre number: | B5: ='Price schedule | Services'!B5 -> G-011989-003 | C5: Contractor: | D5: ='Price schedule | Services'!D5 -> 0
A7: Currency: | B7: GEL | C7: Address: | D7: ='Price schedule | Services'!D7 -> 0
A9: 1. Fixed price
A11: Item | B11: Description | D11: Quantity | E11: Remuneration | F11: Sum | G11: Explanations
A12: Total | F12: =D12*E12 -> 0
A13: Milestone 1 | F13: =D13*E13 -> 0
A14: Milestone 2 | F14: =D14*E14 -> 0
A15: Milestone 3 | F15: =D15*E15 -> 0
A16: Milestone 4 | F16: =D16*E16 -> 0
A17: Milestone 5 | F17: =D17*E17 -> 0
A18: Milestone 6 | F18: =D18*E18 -> 0
A19: Milestone 7 | F19: =D19*E19 -> 0
A21: Subtotal | F21: =SUM(F12:F20) -> 0
A23: 2. Fees and other costs related to contract
A25: 2.1 Fee – daily rate item | B25: Name | C25: Type of reimbursement | D25: Number of expert-days | E25: Remuneration | F25: Total | G25: Explanations
A26: Team leader | B26: =IFERROR(VLOOKUP(A26,'List of key experts'!$B$11:$D$34,3,0)&" "&VLOOKUP(A26,'List of key experts'!$B$11:$D$34,2,0),"N.N.") | C26: Lump sum/number | F26: =D26*E26 -> 0
A27: Key expert 1 | B27: =IFERROR(VLOOKUP(A27,'List of key experts'!$B$11:$D$34,3,0)&" "&VLOOKUP(A27,'List of key experts'!$B$11:$D$34,2,0),"N.N.") | C27: Lump sum/number | F27: =D27*E27 -> 0
A28: Key expert 2 | B28: =IFERROR(VLOOKUP(A28,'List of key experts'!$B$11:$D$34,3,0)&" "&VLOOKUP(A28,'List of key experts'!$B$11:$D$34,2,0),"N.N.") | C28: Lump sum/number | F28: =D28*E28 -> 0
A29: Key expert 3 | B29: =IFERROR(VLOOKUP(A29,'List of key experts'!$B$11:$D$34,3,0)&" "&VLOOKUP(A29,'List of key experts'!$B$11:$D$34,2,0),"N.N.") | C29: Lump sum/number | F29: =D29*E29 -> 0
A30: Key expert 4 | B30: =IFERROR(VLOOKUP(A30,'List of key experts'!$B$11:$D$34,3,0)&" "&VLOOKUP(A30,'List of key experts'!$B$11:$D$34,2,0),"N.N.") | C30: Lump sum/number | F30: =D30*E30 -> 0
A31: Expert pool 1 | C31: Lump sum/number | F31: =D31*E31 -> 0
A32: Expert pool 2 | C32: Lump sum/number | F32: =D32*E32 -> 0
A34: Subtotal | F34: =SUM(F26:F33) -> 0
A36: 2.2 Costs related to the contract, item | B36: Name | C36: Invoicing code | D36: Number | E36: Price | F36: Total | G36: Explanations
A37: Team leader | B37: =IFERROR(VLOOKUP(A37,'List of key experts'!$B$11:$D$34,3,0)&" "&VLOOKUP(A37,'List of key experts'!$B$11:$D$34,2,0),"N.N.") | C37: Lump sum/number | F37: =D37*E37 -> 0
A38: Key expert 1 | B38: =IFERROR(VLOOKUP(A38,'List of key experts'!$B$11:$D$34,3,0)&" "&VLOOKUP(A38,'List of key experts'!$B$11:$D$34,2,0),"N.N.") | C38: Lump sum/number | F38: =D38*E38 -> 0
A39: Key expert 2 | B39: =IFERROR(VLOOKUP(A39,'List of key experts'!$B$11:$D$34,3,0)&" "&VLOOKUP(A39,'List of key experts'!$B$11:$D$34,2,0),"N.N.") | C39: Lump sum/number | F39: =D39*E39 -> 0
A40: Key expert 3 | B40: =IFERROR(VLOOKUP(A40,'List of key experts'!$B$11:$D$34,3,0)&" "&VLOOKUP(A40,'List of key experts'!$B$11:$D$34,2,0),"N.N.") | C40: Lump sum/number | F40: =D40*E40 -> 0
A41: Key expert 4 | B41: =IFERROR(VLOOKUP(A41,'List of key experts'!$B$11:$D$34,3,0)&" "&VLOOKUP(A41,'List of key experts'!$B$11:$D$34,2,0),"N.N.") | C41: Lump sum/number | F41: =D41*E41 -> 0
A42: Key expert 5 | B42: =IFERROR(VLOOKUP(A42,'List of key experts'!$B$11:$D$34,3,0)&" "&VLOOKUP(A42,'List of key experts'!$B$11:$D$34,2,0),"N.N.") -> N.N. | C42: Lump sum/number | F42: =D42*E42 -> 0
A43: Expert pool 1 | B43: =IFERROR(VLOOKUP(A43,'List of key experts'!$B$11:$D$34,3,0)&" "&VLOOKUP(A43,'List of key experts'!$B$11:$D$34,2,0),"N.N.") | C43: Lump sum/number | F43: =D43*E43 -> 0
A44: Expert pool 2 | B44: =IFERROR(VLOOKUP(A44,'List of key experts'!$B$11:$D$34,3,0)&" "&VLOOKUP(A44,'List of key experts'!$B$11:$D$34,2,0),"N.N.") | C44: Lump sum/number | F44: =D44*E44 -> 0
A45: Expert pool 3 | B45: =IFERROR(VLOOKUP(A45,'List of key experts'!$B$11:$D$34,3,0)&" "&VLOOKUP(A45,'List of key experts'!$B$11:$D$34,2,0),"N.N.") -> N.N. | C45: Lump sum/number | F45: =D45*E45 -> 0
A46: Expert pool 4 | B46: =IFERROR(VLOOKUP(A46,'List of key experts'!$B$11:$D$34,3,0)&" "&VLOOKUP(A46,'List of key experts'!$B$11:$D$34,2,0),"N.N.") -> N.N. | C46: Lump sum/number | F46: =D46*E46 -> 0
A47: Expert pool 5 | B47: =IFERROR(VLOOKUP(A47,'List of key experts'!$B$11:$D$34,3,0)&" "&VLOOKUP(A47,'List of key experts'!$B$11:$D$34,2,0),"N.N.") -> N.N. | C47: Lump sum/number | F47: =D47*E47 -> 0
A49: Subtotal | F49: =SUM(F37:F48) -> 0
A52: 3. Travel expenses
...

Sheet Total services + opt.
A1: Total price schedule for local contracts – Services + optional services
A2: CONFIDENTIAL
A3: Contract number (VN): | B3: ='Price schedule | Services'!B3 -> 10062707 | C3: Date: | D3: ='Price schedule | Services'!D3 -> 0
A5: Project number / cost centre number: | B5: ='Price schedule | Services'!B5 -> G-011989-003 | C5: Contractor: | D5: ='Price schedule | Services'!D5 -> 0
A7: Currency: | B7: GEL | C7: Address: | D7: ='Price schedule | Services'!D7 -> 0
A9: 1. Fixed price
A11: Subtotal | E11: ='Price schedule | Services'!F21+'Price schedule | opt. services'!F21 -> 0
A13: 2. Fees and other costs related to contract
A15: 2.1 Fee – daily rate
A16: Subtotal | E16: ='Price schedule | Services'!F34+'Price schedule | opt. services'!F34 -> 0
A18: 2.2 Costs related to the contract
A19: Subtotal | E19: ='Price schedule | Services'!F49+'Price schedule | opt. services'!F49 -> 0
A21: 3. Travel expenses
A22: Link to current country table of the Federal Government:
A23: https://www.bundesfinanzministerium.de/Content/DE/Downloads/BMF_Schreiben/Steuerarten/Lohnsteuer/2024-12-02-steuerliche-behandlung-reisekosten-2025.html (GERMAN ONLY)
A25: Subtotal | E25: ='Price schedule | Services'!F71+'Price schedule | opt. services'!F71 -> 0
A27: 4. Other costs
A29: Subtotal | E29: ='Price schedule | Services'!F90+'Price schedule | opt. services'!F90 -> 0
A31: 5. Total costs
A33: Total (net) | E33: ='Price schedule | Services'!F94+'Price schedule | opt. services'!F94 -> 0

Sheet List of key experts
B2: List of key experts
B3: * Only experts for whom contract supplement is required
B4: ** If a key expert is replaced, please state the end date of the assignment in the explanations; enter the starting date of the assignment for the new expert
B6: Contract no.: | E6: Date: | F6: ='Price schedule | Services'!D3 -> 0
B8: Project no.:
B10: Title of price schedule | C10: Family name | D10: Given name | E10: Date of birth | F10: Place of residence | G10: Explanation of contract supplements
B11: Team leader
B12: Key expert 1
B13: Key expert 2
B14: Key expert 3
B15: Key expert 4
B16: Expert pool 1
B17: Expert pool 2

Sheet Lists
B3: Type of reimbursement
B4: Please select
B5: Lump sum/number
B6: against evidence
B7: not applicable
